{
 "version": 1.0,
 "tileBundlesPath": "./tile",
 "storageInfo": {
  "packetSize": 128,
  "storageFormat": "esriMapCacheStorageModeCompactV2"
 },
 "tileImageInfo": {
  "format": "PNG",
  "compressionQuality": 0,
  "bandCount": 1,
  "lercError": 0
 },
 "tileInfo": {
  "spatialReference": {
   "wkid": 102100,
   "latestWkid": 3857
  },
  "origin": {
   "x": -2.0037508342787E7,
   "y": 2.0037508342787E7
  },
  "rows": 256,
  "cols": 256,
  "dpi": 96,
  "lods": [
   {
    "level": 0,
    "resolution": 156543.033928,
    "scale": 5.91657527591555E8
   },
   {
    "level": 1,
    "resolution": 78271.5169639999,
    "scale": 2.95828763795777E8
   },
   {
    "level": 2,
    "resolution": 39135.7584820001,
    "scale": 1.47914381897889E8
   },
   {
    "level": 3,
    "resolution": 19567.8792409999,
    "scale": 7.3957190948944E7
   },
   {
    "level": 4,
    "resolution": 9783.93962049996,
    "scale": 3.6978595474472E7
   },
   {
    "level": 5,
    "resolution": 4891.96981024998,
    "scale": 1.8489297737236E7
   },
   {
    "level": 6,
    "resolution": 2445.98490512499,
    "scale": 9244648.868618
   },
   {
    "level": 7,
    "resolution": 1222.99245256249,
    "scale": 4622324.434309
   },
   {
    "level": 8,
    "resolution": 611.49622628138,
    "scale": 2311162.217155
   },
   {
    "level": 9,
    "resolution": 305.748113140558,
    "scale": 1155581.108577
   },
   {
    "level": 10,
    "resolution": 152.874056570411,
    "scale": 577790.554289
   },
   {
    "level": 11,
    "resolution": 76.4370282850732,
    "scale": 288895.277144
   },
   {
    "level": 12,
    "resolution": 38.2185141425366,
    "scale": 144447.638572
   },
   {
    "level": 13,
    "resolution": 19.1092570712683,
    "scale": 72223.819286
   },
   {
    "level": 14,
    "resolution": 9.55462853563415,
    "scale": 36111.909643
   },
   {
    "level": 15,
    "resolution": 4.77731426794937,
    "scale": 18055.954822
   },
   {
    "level": 16,
    "resolution": 2.38865713397468,
    "scale": 9027.977411
   },
   {
    "level": 17,
    "resolution": 1.19432856685505,
    "scale": 4513.988705
   },
   {
    "level": 18,
    "resolution": 0.597164283559817,
    "scale": 2256.994353
   },
   {
    "level": 19,
    "resolution": 0.298582141647617,
    "scale": 1128.497176
   },
   {
    "level": 20,
    "resolution": 0.14929107082380833,
    "scale": 564.248588
   },
   {
    "level": 21,
    "resolution": 0.07464553541190416,
    "scale": 282.124294
   },
   {
    "level": 22,
    "resolution": 0.03732276770595208,
    "scale": 141.062147
   },
   {
    "level": 23,
    "resolution": 0.01866138385297604,
    "scale": 70.5310735
   }
  ],
  "format": "PNG",
  "compressionQuality": 0,
  "bandCount": 1,
  "lercError": 0,
  "storageFormat": "esriMapCacheStorageModeCompactV2",
  "packetSize": 128
 },
 "name": "MovilidadEstacional_15082020",
 "serviceDescription": "",
 "spatialReference": {
  "wkid": 102100,
  "latestWkid": 3857,
  "xyTolerance": 0.001,
  "zTolerance": 0.001,
  "mTolerance": 0.001,
  "falseX": -20037700,
  "falseY": -30241100,
  "xyUnits": 10000,
  "falseZ": -100000,
  "zUnits": 10000,
  "falseM": -100000,
  "mUnits": 10000
 },
 "units": "esriMeters",
 "minLOD": 5,
 "maxLOD": 14,
 "resampling": true,
 "layers": [
  {
   "id": 0,
   "name": "Celdas_1508",
   "parentLayerId": -1,
   "defaultVisibility": true,
   "subLayerIds": null,
   "minScale": 0,
   "maxScale": 0,
   "type": "Feature Layer",
   "geometryType": "esriGeometryPolygon",
   "supportsDynamicLegends": true,
   "legend": [
    {
     "label": "% ≥ 200%",
     "imageData": "iVBORw0KGgoAAAANSUhEUgAAABQAAAAUCAYAAACNiR0NAAAACXBIWXMAAA7EAAAOxAGVKw4bAAAALklEQVQ4jWPpEFT+z0AlUPH+LiMLtQyDgVEDRw0cNXDUwFEDaWVgxfu7jNQ0EABeCgaW4uQk7gAAAABJRU5ErkJggg==",
     "contentType": "image/png",
     "height": 20,
     "width": 20,
     "values": [
      -60
     ],
     "layerId": 0,
     "layerName": "Celdas_1508"
    },
    {
     "label": "100% ≤ % < 200%",
     "imageData": "iVBORw0KGgoAAAANSUhEUgAAABQAAAAUCAYAAACNiR0NAAAACXBIWXMAAA7EAAAOxAGVKw4bAAAALklEQVQ4jWM5I2nyn4FKwOT5GUYWahkGA6MGjho4auCogaMG0spAk+dnGKlpIABcwAY5cdEDhQAAAABJRU5ErkJggg==",
     "contentType": "image/png",
     "height": 20,
     "width": 20,
     "values": [
      -30
     ],
     "layerId": 0,
     "layerName": "Celdas_1508"
    },
    {
     "label": "60% ≤ % < 100%",
     "imageData": "iVBORw0KGgoAAAANSUhEUgAAABQAAAAUCAYAAACNiR0NAAAACXBIWXMAAA7EAAAOxAGVKw4bAAAALklEQVQ4jWN5G5f6n4FKQHjRbEYWahkGA6MGjho4auCogaMG0spA4UWzGalpIABbCwWiCvH7JAAAAABJRU5ErkJggg==",
     "contentType": "image/png",
     "height": 20,
     "width": 20,
     "values": [
      -20
     ],
     "layerId": 0,
     "layerName": "Celdas_1508"
    },
    {
     "label": "30% ≤ % < 60%",
     "imageData": "iVBORw0KGgoAAAANSUhEUgAAABQAAAAUCAYAAACNiR0NAAAACXBIWXMAAA7EAAAOxAGVKw4bAAAALklEQVQ4jWP51DvpPwOVAF9xHiMLtQyDgVEDRw0cNXDUwFEDaWUgX3EeIzUNBABaEAVBD5sF7gAAAABJRU5ErkJggg==",
     "contentType": "image/png",
     "height": 20,
     "width": 20,
     "values": [
      -10
     ],
     "layerId": 0,
     "layerName": "Celdas_1508"
    },
    {
     "label": "20% ≤ % < 30%",
     "imageData": "iVBORw0KGgoAAAANSUhEUgAAABQAAAAUCAYAAACNiR0NAAAACXBIWXMAAA7EAAAOxAGVKw4bAAAALklEQVQ4jWP5smLJfwYqAZ6IGEYWahkGA6MGjho4auCogaMG0spAnogYRmoaCABZkwUSObTdgQAAAABJRU5ErkJggg==",
     "contentType": "image/png",
     "height": 20,
     "width": 20,
     "values": [
      0
     ],
     "layerId": 0,
     "layerName": "Celdas_1508"
    },
    {
     "label": "10% ≤ % < 20%",
     "imageData": "iVBORw0KGgoAAAANSUhEUgAAABQAAAAUCAYAAACNiR0NAAAACXBIWXMAAA7EAAAOxAGVKw4bAAAALklEQVQ4jWP5fmf3fwYqAU4VV0YWahkGA6MGjho4auCogaMG0spAThVXRmoaCABYvQTE2Mn/IQAAAABJRU5ErkJggg==",
     "contentType": "image/png",
     "height": 20,
     "width": 20,
     "values": [
      10
     ],
     "layerId": 0,
     "layerName": "Celdas_1508"
    },
    {
     "label": "0% ≤ % < 10%",
     "imageData": "iVBORw0KGgoAAAANSUhEUgAAABQAAAAUCAYAAACNiR0NAAAACXBIWXMAAA7EAAAOxAGVKw4bAAAALklEQVQ4jWP5/eXlfwYqAVYecUYWahkGA6MGjho4auCogaMG0spAVh5xRmoaCABYCQR69XCubwAAAABJRU5ErkJggg==",
     "contentType": "image/png",
     "height": 20,
     "width": 20,
     "values": [
      20
     ],
     "layerId": 0,
     "layerName": "Celdas_1508"
    },
    {
     "label": "-10% ≤ % < 0%",
     "imageData": "iVBORw0KGgoAAAANSUhEUgAAABQAAAAUCAYAAACNiR0NAAAACXBIWXMAAA7EAAAOxAGVKw4bAAAALklEQVQ4jWPZ/Pz/fwYqAV9JRkYWahkGA6MGjho4auCogaMG0spAX0lGRmoaCABZJAS5+3SIUgAAAABJRU5ErkJggg==",
     "contentType": "image/png",
     "height": 20,
     "width": 20,
     "values": [
      30
     ],
     "layerId": 0,
     "layerName": "Celdas_1508"
    },
    {
     "label": "-20% ≤ % < -10%",
     "imageData": "iVBORw0KGgoAAAANSUhEUgAAABQAAAAUCAYAAACNiR0NAAAACXBIWXMAAA7EAAAOxAGVKw4bAAAALklEQVQ4jWNpuPn/PwOVQIM6IyMLtQyDgVEDRw0cNXDUwFEDaWVggzojIzUNBABaGgT6551oAAAAAABJRU5ErkJggg==",
     "contentType": "image/png",
     "height": 20,
     "width": 20,
     "values": [
      60
     ],
     "layerId": 0,
     "layerName": "Celdas_1508"
    },
    {
     "label": "-30% ≤ % < -20%",
     "imageData": "iVBORw0KGgoAAAANSUhEUgAAABQAAAAUCAYAAACNiR0NAAAACXBIWXMAAA7EAAAOxAGVKw4bAAAALklEQVQ4jWOR2vX/PwOVwDM3RkYWahkGA6MGjho4auCogaMG0srAZ26MjNQ0EABcDwV/qXKYmQAAAABJRU5ErkJggg==",
     "contentType": "image/png",
     "height": 20,
     "width": 20,
     "values": [
      100
     ],
     "layerId": 0,
     "layerName": "Celdas_1508"
    },
    {
     "label": "-60% ≤ % < -30%",
     "imageData": "iVBORw0KGgoAAAANSUhEUgAAABQAAAAUCAYAAACNiR0NAAAACXBIWXMAAA7EAAAOxAGVKw4bAAAALElEQVQ4jWNhiGz4z0AtsLyBkYVqhkHBqIGjBo4aOGrgqIE0M3B5AyM1DQQABz4EeUvcAM4AAAAASUVORK5CYII=",
     "contentType": "image/png",
     "height": 20,
     "width": 20,
     "values": [
      200
     ],
     "layerId": 0,
     "layerName": "Celdas_1508"
    },
    {
     "label": "% <-60%",
     "imageData": "iVBORw0KGgoAAAANSUhEUgAAABQAAAAUCAYAAACNiR0NAAAACXBIWXMAAA7EAAAOxAGVKw4bAAAALElEQVQ4jWNhMPH9z0AtcGYzIwvVDIOCUQNHDRw1cNTAUQNpZuCZzYzUNBAACBME0Q6SC2UAAAAASUVORK5CYII=",
     "contentType": "image/png",
     "height": 20,
     "width": 20,
     "values": [
      482.1
     ],
     "layerId": 0,
     "layerName": "Celdas_1508"
    }
   ],
   "layerId": 0,
   "layerName": "Celdas_1508",
   "serviceItemId": "5809919d332645f483f99c6bcad9b672"
  }
 ],
 "initialExtent": {
  "xmin": -2021659.7741999999,
  "ymin": 3203377.0821,
  "xmax": 481778.4657999985,
  "ymax": 5433000.5788,
  "spatialReference": {
   "wkid": 102100,
   "latestWkid": 3857,
   "xyTolerance": 0.001,
   "zTolerance": 0.001,
   "mTolerance": 0.001,
   "falseX": -20037700,
   "falseY": -30241100,
   "xyUnits": 10000,
   "falseZ": -100000,
   "zUnits": 10000,
   "falseM": -100000,
   "mUnits": 10000
  }
 },
 "fullExtent": {
  "xmin": -2021659.7741999999,
  "ymin": 3203377.0821,
  "xmax": 481778.4657999985,
  "ymax": 5433000.5788,
  "spatialReference": {
   "wkid": 102100,
   "latestWkid": 3857,
   "xyTolerance": 0.001,
   "zTolerance": 0.001,
   "mTolerance": 0.001,
   "falseX": -20037700,
   "falseY": -30241100,
   "xyUnits": 10000,
   "falseZ": -100000,
   "zUnits": 10000,
   "falseM": -100000,
   "mUnits": 10000
  }
 },
 "minScale": 0,
 "maxScale": 0,
 "exportTilesAllowed": false,
 "maxExportTilesCount": 0,
 "currentVersion": 11.3,
 "mapName": "MovilidadEstacional_15082020",
 "singleFusedMapCache": true,
 "type": "MapServer",
 "supportedExtensions": "",
 "capabilities": "TilesOnly,Tilemap",
 "serviceItemId": "5809919d332645f483f99c6bcad9b672"
}
