{
 "version": 1.0,
 "tileBundlesPath": "./tile",
 "storageInfo": {
  "packetSize": 128,
  "storageFormat": "esriMapCacheStorageModeCompactV2"
 },
 "tileImageInfo": {
  "format": "PNG",
  "compressionQuality": 0,
  "bandCount": 1,
  "lercError": 0
 },
 "tileInfo": {
  "spatialReference": {
   "wkid": 102100,
   "latestWkid": 3857
  },
  "origin": {
   "x": -2.0037508342787E7,
   "y": 2.0037508342787E7
  },
  "rows": 256,
  "cols": 256,
  "dpi": 96,
  "lods": [
   {
    "level": 0,
    "resolution": 156543.033928,
    "scale": 5.91657527591555E8
   },
   {
    "level": 1,
    "resolution": 78271.5169639999,
    "scale": 2.95828763795777E8
   },
   {
    "level": 2,
    "resolution": 39135.7584820001,
    "scale": 1.47914381897889E8
   },
   {
    "level": 3,
    "resolution": 19567.8792409999,
    "scale": 7.3957190948944E7
   },
   {
    "level": 4,
    "resolution": 9783.93962049996,
    "scale": 3.6978595474472E7
   },
   {
    "level": 5,
    "resolution": 4891.96981024998,
    "scale": 1.8489297737236E7
   },
   {
    "level": 6,
    "resolution": 2445.98490512499,
    "scale": 9244648.868618
   },
   {
    "level": 7,
    "resolution": 1222.99245256249,
    "scale": 4622324.434309
   },
   {
    "level": 8,
    "resolution": 611.49622628138,
    "scale": 2311162.217155
   },
   {
    "level": 9,
    "resolution": 305.748113140558,
    "scale": 1155581.108577
   },
   {
    "level": 10,
    "resolution": 152.874056570411,
    "scale": 577790.554289
   },
   {
    "level": 11,
    "resolution": 76.4370282850732,
    "scale": 288895.277144
   },
   {
    "level": 12,
    "resolution": 38.2185141425366,
    "scale": 144447.638572
   },
   {
    "level": 13,
    "resolution": 19.1092570712683,
    "scale": 72223.819286
   },
   {
    "level": 14,
    "resolution": 9.55462853563415,
    "scale": 36111.909643
   },
   {
    "level": 15,
    "resolution": 4.77731426794937,
    "scale": 18055.954822
   },
   {
    "level": 16,
    "resolution": 2.38865713397468,
    "scale": 9027.977411
   },
   {
    "level": 17,
    "resolution": 1.19432856685505,
    "scale": 4513.988705
   },
   {
    "level": 18,
    "resolution": 0.597164283559817,
    "scale": 2256.994353
   },
   {
    "level": 19,
    "resolution": 0.298582141647617,
    "scale": 1128.497176
   },
   {
    "level": 20,
    "resolution": 0.14929107082380833,
    "scale": 564.248588
   },
   {
    "level": 21,
    "resolution": 0.07464553541190416,
    "scale": 282.124294
   },
   {
    "level": 22,
    "resolution": 0.03732276770595208,
    "scale": 141.062147
   },
   {
    "level": 23,
    "resolution": 0.01866138385297604,
    "scale": 70.5310735
   }
  ],
  "format": "PNG",
  "compressionQuality": 0,
  "bandCount": 1,
  "lercError": 0,
  "storageFormat": "esriMapCacheStorageModeCompactV2",
  "packetSize": 128
 },
 "name": "2000_MomentosHorarios_definitivo",
 "serviceDescription": "",
 "spatialReference": {
  "wkid": 102100,
  "latestWkid": 3857,
  "xyTolerance": 0.001,
  "zTolerance": 0.001,
  "mTolerance": 0.001,
  "falseX": -20037700,
  "falseY": -30241100,
  "xyUnits": 1.4892314192838538E8,
  "falseZ": -100000,
  "zUnits": 10000,
  "falseM": -100000,
  "mUnits": 10000
 },
 "units": "esriMeters",
 "minLOD": 5,
 "maxLOD": 15,
 "resampling": true,
 "layers": [
  {
   "id": 0,
   "name": "20:00",
   "parentLayerId": -1,
   "defaultVisibility": true,
   "subLayerIds": null,
   "minScale": 0,
   "maxScale": 0,
   "type": "Feature Layer",
   "geometryType": "esriGeometryPolygon",
   "supportsDynamicLegends": true,
   "legend": [
    {
     "label": ">= 167",
     "imageData": "iVBORw0KGgoAAAANSUhEUgAAABQAAAAUCAYAAACNiR0NAAAACXBIWXMAAA7EAAAOxAGVKw4bAAAALklEQVQ4jWPZx8f3n4FKwOnTJ0YWahkGA6MGjho4auCogaMG0spAp0+fGKlpIABdZQZ4E15jKgAAAABJRU5ErkJggg==",
     "contentType": "image/png",
     "height": 20,
     "width": 20,
     "values": [
      63
     ],
     "layerId": 0,
     "layerName": "20:00"
    },
    {
     "label": "152 a 167",
     "imageData": "iVBORw0KGgoAAAANSUhEUgAAABQAAAAUCAYAAACNiR0NAAAACXBIWXMAAA7EAAAOxAGVKw4bAAAALklEQVQ4jWP5L6f5n4FKgPHRdUYWahkGA6MGjho4auCogaMG0spAxkfXGalpIABb+wYMwM3gogAAAABJRU5ErkJggg==",
     "contentType": "image/png",
     "height": 20,
     "width": 20,
     "values": [
      78
     ],
     "layerId": 0,
     "layerName": "20:00"
    },
    {
     "label": "137 a 152",
     "imageData": "iVBORw0KGgoAAAANSUhEUgAAABQAAAAUCAYAAACNiR0NAAAACXBIWXMAAA7EAAAOxAGVKw4bAAAALklEQVQ4jWP5H5v6n4FKgHHxbEYWahkGA6MGjho4auCogaMG0spAxsWzGalpIABaxgWRFxD9NwAAAABJRU5ErkJggg==",
     "contentType": "image/png",
     "height": 20,
     "width": 20,
     "values": [
      93
     ],
     "layerId": 0,
     "layerName": "20:00"
    },
    {
     "label": "122 a 137",
     "imageData": "iVBORw0KGgoAAAANSUhEUgAAABQAAAAUCAYAAACNiR0NAAAACXBIWXMAAA7EAAAOxAGVKw4bAAAALklEQVQ4jWP53zflPwOVAGNRDiMLtQyDgVEDRw0cNXDUwFEDaWUgY1EOIzUNBABZ1QUxyr5bTQAAAABJRU5ErkJggg==",
     "contentType": "image/png",
     "height": 20,
     "width": 20,
     "values": [
      107
     ],
     "layerId": 0,
     "layerName": "20:00"
    },
    {
     "label": "107 a 122",
     "imageData": "iVBORw0KGgoAAAANSUhEUgAAABQAAAAUCAYAAACNiR0NAAAACXBIWXMAAA7EAAAOxAGVKw4bAAAALklEQVQ4jWP5f+HSfwYqAUYDPUYWahkGA6MGjho4auCogaMG0spARgM9RmoaCABYkwSxi5P3OAAAAABJRU5ErkJggg==",
     "contentType": "image/png",
     "height": 20,
     "width": 20,
     "values": [
      122
     ],
     "layerId": 0,
     "layerName": "20:00"
    },
    {
     "label": "93 a 107",
     "imageData": "iVBORw0KGgoAAAANSUhEUgAAABQAAAAUCAYAAACNiR0NAAAACXBIWXMAAA7EAAAOxAGVKw4bAAAALklEQVQ4jWNZt2rVfwYqgaCwMEYWahkGA6MGjho4auCogaMG0srAoLAwRmoaCABamQVQ7QM3zwAAAABJRU5ErkJggg==",
     "contentType": "image/png",
     "height": 20,
     "width": 20,
     "values": [
      137
     ],
     "layerId": 0,
     "layerName": "20:00"
    },
    {
     "label": "78 a 93",
     "imageData": "iVBORw0KGgoAAAANSUhEUgAAABQAAAAUCAYAAACNiR0NAAAACXBIWXMAAA7EAAAOxAGVKw4bAAAALklEQVQ4jWM5ev35fwYqAWtNSUYWahkGA6MGjho4auCogaMG0spAa01JRmoaCABZPATPbvxdJgAAAABJRU5ErkJggg==",
     "contentType": "image/png",
     "height": 20,
     "width": 20,
     "values": [
      152
     ],
     "layerId": 0,
     "layerName": "20:00"
    },
    {
     "label": "63 a 78",
     "imageData": "iVBORw0KGgoAAAANSUhEUgAAABQAAAAUCAYAAACNiR0NAAAACXBIWXMAAA7EAAAOxAGVKw4bAAAALElEQVQ4jWNh2PDhPwO1QIAAIwvVDIOCUQNHDRw1cNTAUQNpZmCAACM1DQQABVkDsma1Zh8AAAAASUVORK5CYII=",
     "contentType": "image/png",
     "height": 20,
     "width": 20,
     "values": [
      167
     ],
     "layerId": 0,
     "layerName": "20:00"
    },
    {
     "label": "<= 63",
     "imageData": "iVBORw0KGgoAAAANSUhEUgAAABQAAAAUCAYAAACNiR0NAAAACXBIWXMAAA7EAAAOxAGVKw4bAAAALklEQVQ4jWNxLl38n4FKYG93LCMLtQyDgVEDRw0cNXDUwFEDaWXg3u5YRmoaCABc8gX3+0LI0AAAAABJRU5ErkJggg==",
     "contentType": "image/png",
     "height": 20,
     "width": 20,
     "values": [
      500
     ],
     "layerId": 0,
     "layerName": "20:00"
    }
   ],
   "layerId": 0,
   "layerName": "20:00",
   "serviceItemId": "13ef47e739a844a58b36ec106e6b6c36"
  }
 ],
 "initialExtent": {
  "xmin": -2366490.5611557825,
  "ymin": 3182989.5407879646,
  "xmax": 530911.8282695931,
  "ymax": 5447856.898625868,
  "spatialReference": {
   "wkid": 102100,
   "latestWkid": 3857,
   "xyTolerance": 0.001,
   "zTolerance": 0.001,
   "mTolerance": 0.001,
   "falseX": -20037700,
   "falseY": -30241100,
   "xyUnits": 1.4892314192838538E8,
   "falseZ": -100000,
   "zUnits": 10000,
   "falseM": -100000,
   "mUnits": 10000
  }
 },
 "fullExtent": {
  "xmin": -2366490.5611557825,
  "ymin": 3182989.5407879646,
  "xmax": 530911.8282695931,
  "ymax": 5447856.898625868,
  "spatialReference": {
   "wkid": 102100,
   "latestWkid": 3857,
   "xyTolerance": 0.001,
   "zTolerance": 0.001,
   "mTolerance": 0.001,
   "falseX": -20037700,
   "falseY": -30241100,
   "xyUnits": 1.4892314192838538E8,
   "falseZ": -100000,
   "zUnits": 10000,
   "falseM": -100000,
   "mUnits": 10000
  }
 },
 "minScale": 0,
 "maxScale": 0,
 "exportTilesAllowed": false,
 "maxExportTilesCount": 0,
 "currentVersion": 11.3,
 "mapName": "2000_MomentosHorarios_definitivo",
 "singleFusedMapCache": true,
 "type": "MapServer",
 "supportedExtensions": "",
 "capabilities": "TilesOnly,Tilemap",
 "serviceItemId": "13ef47e739a844a58b36ec106e6b6c36"
}
