{
 "version": 1.0,
 "tileBundlesPath": "./tile",
 "storageInfo": {
  "packetSize": 128,
  "storageFormat": "esriMapCacheStorageModeCompactV2"
 },
 "tileImageInfo": {
  "format": "PNG",
  "compressionQuality": 0,
  "bandCount": 1,
  "lercError": 0
 },
 "tileInfo": {
  "spatialReference": {
   "wkid": 102100,
   "latestWkid": 3857
  },
  "origin": {
   "x": -2.0037508342787E7,
   "y": 2.0037508342787E7
  },
  "rows": 256,
  "cols": 256,
  "dpi": 96,
  "lods": [
   {
    "level": 0,
    "resolution": 156543.033928,
    "scale": 5.91657527591555E8
   },
   {
    "level": 1,
    "resolution": 78271.5169639999,
    "scale": 2.95828763795777E8
   },
   {
    "level": 2,
    "resolution": 39135.7584820001,
    "scale": 1.47914381897889E8
   },
   {
    "level": 3,
    "resolution": 19567.8792409999,
    "scale": 7.3957190948944E7
   },
   {
    "level": 4,
    "resolution": 9783.93962049996,
    "scale": 3.6978595474472E7
   },
   {
    "level": 5,
    "resolution": 4891.96981024998,
    "scale": 1.8489297737236E7
   },
   {
    "level": 6,
    "resolution": 2445.98490512499,
    "scale": 9244648.868618
   },
   {
    "level": 7,
    "resolution": 1222.99245256249,
    "scale": 4622324.434309
   },
   {
    "level": 8,
    "resolution": 611.49622628138,
    "scale": 2311162.217155
   },
   {
    "level": 9,
    "resolution": 305.748113140558,
    "scale": 1155581.108577
   },
   {
    "level": 10,
    "resolution": 152.874056570411,
    "scale": 577790.554289
   },
   {
    "level": 11,
    "resolution": 76.4370282850732,
    "scale": 288895.277144
   },
   {
    "level": 12,
    "resolution": 38.2185141425366,
    "scale": 144447.638572
   },
   {
    "level": 13,
    "resolution": 19.1092570712683,
    "scale": 72223.819286
   },
   {
    "level": 14,
    "resolution": 9.55462853563415,
    "scale": 36111.909643
   },
   {
    "level": 15,
    "resolution": 4.77731426794937,
    "scale": 18055.954822
   },
   {
    "level": 16,
    "resolution": 2.38865713397468,
    "scale": 9027.977411
   },
   {
    "level": 17,
    "resolution": 1.19432856685505,
    "scale": 4513.988705
   },
   {
    "level": 18,
    "resolution": 0.597164283559817,
    "scale": 2256.994353
   },
   {
    "level": 19,
    "resolution": 0.298582141647617,
    "scale": 1128.497176
   },
   {
    "level": 20,
    "resolution": 0.14929107082380833,
    "scale": 564.248588
   },
   {
    "level": 21,
    "resolution": 0.07464553541190416,
    "scale": 282.124294
   },
   {
    "level": 22,
    "resolution": 0.03732276770595208,
    "scale": 141.062147
   },
   {
    "level": 23,
    "resolution": 0.01866138385297604,
    "scale": 70.5310735
   }
  ],
  "format": "PNG",
  "compressionQuality": 0,
  "bandCount": 1,
  "lercError": 0,
  "storageFormat": "esriMapCacheStorageModeCompactV2",
  "packetSize": 128
 },
 "name": "ADRH 2023_Porcentaje salario sobre renta bruta",
 "serviceDescription": "",
 "spatialReference": {
  "wkid": 102100,
  "latestWkid": 3857,
  "xyTolerance": 0.001,
  "zTolerance": 0.001,
  "mTolerance": 0.001,
  "falseX": -20037700,
  "falseY": -30241100,
  "xyUnits": 1.4892314192838538E8,
  "falseZ": -100000,
  "zUnits": 10000,
  "falseM": -100000,
  "mUnits": 10000
 },
 "units": "esriMeters",
 "minLOD": 5,
 "maxLOD": 16,
 "resampling": true,
 "layers": [
  {
   "id": 0,
   "name": "Contornos Municipales",
   "parentLayerId": -1,
   "defaultVisibility": true,
   "subLayerIds": null,
   "minScale": 1155580,
   "maxScale": 0,
   "type": "Feature Layer",
   "geometryType": "esriGeometryPolygon",
   "supportsDynamicLegends": true,
   "legend": [
    {
     "label": "Contornos Municipales",
     "imageData": "iVBORw0KGgoAAAANSUhEUgAAABQAAAAUCAYAAACNiR0NAAAACXBIWXMAAA7EAAAOxAGVKw4bAAAAN0lEQVQ4je3QoREAMBACQTJD/y0Tk4jX4J4zuBUQgBCMb0/I0wdjsaAdfWJW0I8BY1Rw04dKiRdWjgNPSyeLfgAAAABJRU5ErkJggg==",
     "contentType": "image/png",
     "groupId": "0",
     "height": 20,
     "width": 20,
     "layerId": 0,
     "layerName": "Contornos Municipales"
    }
   ],
   "layerId": 0,
   "layerName": "Contornos Municipales",
   "serviceItemId": "a1c7044119ee477aa938ce8f8a212a21"
  },
  {
   "id": 1,
   "name": "Nivel: municipios",
   "parentLayerId": -1,
   "defaultVisibility": true,
   "subLayerIds": null,
   "minScale": 0,
   "maxScale": 1155580,
   "type": "Feature Layer",
   "geometryType": "esriGeometryPolygon",
   "supportsDynamicLegends": true,
   "legend": [
    {
     "label": "20,9% - 42,5%",
     "imageData": "iVBORw0KGgoAAAANSUhEUgAAABQAAAAUCAYAAACNiR0NAAAACXBIWXMAAA7EAAAOxAGVKw4bAAAANElEQVQ4jWN5++PlfwYqAhZqGgYCowZSDlioYAYKGDWQcsBCBTNQwKiBlAMWKpjBMMINBAAVQwQeKL3DKgAAAABJRU5ErkJggg==",
     "contentType": "image/png",
     "groupId": "0",
     "height": 20,
     "width": 20,
     "values": [
      42.48
     ],
     "layerId": 1,
     "layerName": "Nivel: municipios"
    },
    {
     "label": "42,5% - 47,6%",
     "imageData": "iVBORw0KGgoAAAANSUhEUgAAABQAAAAUCAYAAACNiR0NAAAACXBIWXMAAA7EAAAOxAGVKw4bAAAANElEQVQ4jWM5/vLAfwYqAhZqGgYCowZSDlioYAYKGDWQcsBCBTNQwKiBlAMWKpjBMMINBADC/QPAXMbLWAAAAABJRU5ErkJggg==",
     "contentType": "image/png",
     "groupId": "0",
     "height": 20,
     "width": 20,
     "values": [
      47.6
     ],
     "layerId": 1,
     "layerName": "Nivel: municipios"
    },
    {
     "label": "47,6% - 51,5%",
     "imageData": "iVBORw0KGgoAAAANSUhEUgAAABQAAAAUCAYAAACNiR0NAAAACXBIWXMAAA7EAAAOxAGVKw4bAAAANElEQVQ4jWNZeHP2fwYqAhZqGgYCowZSDlioYAYKGDWQcsBCBTNQwKiBlAMWKpjBMMINBACDuANlFje5IAAAAABJRU5ErkJggg==",
     "contentType": "image/png",
     "groupId": "0",
     "height": 20,
     "width": 20,
     "values": [
      51.49
     ],
     "layerId": 1,
     "layerName": "Nivel: municipios"
    },
    {
     "label": "51,5% - 55,3%",
     "imageData": "iVBORw0KGgoAAAANSUhEUgAAABQAAAAUCAYAAACNiR0NAAAACXBIWXMAAA7EAAAOxAGVKw4bAAAAM0lEQVQ4jWMpOVL2n4GKgIWahoHAqIGUAxYqmIECRg2kHLBQwQwUMGog5YCFCmYwjHADAfiFAv7HpI4aAAAAAElFTkSuQmCC",
     "contentType": "image/png",
     "groupId": "0",
     "height": 20,
     "width": 20,
     "values": [
      55.34
     ],
     "layerId": 1,
     "layerName": "Nivel: municipios"
    },
    {
     "label": "55,3% - 59,2%",
     "imageData": "iVBORw0KGgoAAAANSUhEUgAAABQAAAAUCAYAAACNiR0NAAAACXBIWXMAAA7EAAAOxAGVKw4bAAAAM0lEQVQ4jWNxXB37n4GKgIWahoHAqIGUAxYqmIECRg2kHLBQwQwUMGog5YCFCmYwjHADAXnzAplvp4eQAAAAAElFTkSuQmCC",
     "contentType": "image/png",
     "groupId": "0",
     "height": 20,
     "width": 20,
     "values": [
      59.24
     ],
     "layerId": 1,
     "layerName": "Nivel: municipios"
    },
    {
     "label": "59,2% - 63,4%",
     "imageData": "iVBORw0KGgoAAAANSUhEUgAAABQAAAAUCAYAAACNiR0NAAAACXBIWXMAAA7EAAAOxAGVKw4bAAAAM0lEQVQ4jWNR7nb9z0BFwEJNw0Bg1EDKAQsVzEABowZSDlioYAYKGDWQcsBCBTMYRriBAFpDAkPPV18OAAAAAElFTkSuQmCC",
     "contentType": "image/png",
     "groupId": "0",
     "height": 20,
     "width": 20,
     "values": [
      63.38
     ],
     "layerId": 1,
     "layerName": "Nivel: municipios"
    },
    {
     "label": "63,4% - 80,2%",
     "imageData": "iVBORw0KGgoAAAANSUhEUgAAABQAAAAUCAYAAACNiR0NAAAACXBIWXMAAA7EAAAOxAGVKw4bAAAAM0lEQVQ4jWNhiDL6z0BFwEJNw0Bg1EDKAQsVzEABowZSDlioYAYKGDWQcsBCBTMYRriBAM8IAdx+lk5wAAAAAElFTkSuQmCC",
     "contentType": "image/png",
     "groupId": "0",
     "height": 20,
     "width": 20,
     "values": [
      80.19
     ],
     "layerId": 1,
     "layerName": "Nivel: municipios"
    }
   ],
   "layerId": 1,
   "layerName": "Nivel: municipios"
  },
  {
   "id": 2,
   "name": "Nivel: distritos",
   "parentLayerId": -1,
   "defaultVisibility": true,
   "subLayerIds": null,
   "minScale": 1155580,
   "maxScale": 288894,
   "type": "Feature Layer",
   "geometryType": "esriGeometryPolygon",
   "supportsDynamicLegends": true,
   "legend": [
    {
     "label": "20,9% - 43,7%",
     "imageData": "iVBORw0KGgoAAAANSUhEUgAAABQAAAAUCAYAAACNiR0NAAAACXBIWXMAAA7EAAAOxAGVKw4bAAAAP0lEQVQ4jWOZM2fOfQYqAhYQERjjSxXD1i/ZDDGQmoBl1ECKAQvlRqCCUQMpByxUMAMFjBo4YsJw/ZLNVDMRABzeCAq0gCK2AAAAAElFTkSuQmCC",
     "contentType": "image/png",
     "groupId": "0",
     "height": 20,
     "width": 20,
     "values": [
      43.71
     ],
     "layerId": 2,
     "layerName": "Nivel: distritos"
    },
    {
     "label": "43,7% - 48,9%",
     "imageData": "iVBORw0KGgoAAAANSUhEUgAAABQAAAAUCAYAAACNiR0NAAAACXBIWXMAAA7EAAAOxAGVKw4bAAAAP0lEQVQ4jWOZM2fOfQYqAhYQoe2rQhXDrm6+AzGQmoBl1ECKAQvlRqCCUQMpByxUMAMFjBo4YsLw6uY7VDMRAB31CGinfzuJAAAAAElFTkSuQmCC",
     "contentType": "image/png",
     "groupId": "0",
     "height": 20,
     "width": 20,
     "values": [
      48.94
     ],
     "layerId": 2,
     "layerName": "Nivel: distritos"
    },
    {
     "label": "48,9% - 52,8%",
     "imageData": "iVBORw0KGgoAAAANSUhEUgAAABQAAAAUCAYAAACNiR0NAAAACXBIWXMAAA7EAAAOxAGVKw4bAAAAPElEQVQ4jWOZM2fOfQYqAhYQwWpLHcN+H4YaSE3AMmogxYCFciNQwaiBlAMWKpiBAkYNHDFh+Psw9UwEACCrBsLQL/tnAAAAAElFTkSuQmCC",
     "contentType": "image/png",
     "groupId": "0",
     "height": 20,
     "width": 20,
     "values": [
      52.81
     ],
     "layerId": 2,
     "layerName": "Nivel: distritos"
    },
    {
     "label": "52,8% - 56,5%",
     "imageData": "iVBORw0KGgoAAAANSUhEUgAAABQAAAAUCAYAAACNiR0NAAAACXBIWXMAAA7EAAAOxAGVKw4bAAAAP0lEQVQ4jWOZM2fOfQYqAhYQcV3jFlUM07yhBjGQmoBl1ECKAQvlRqCCUQMpByxUMAMFjBo4YsJQ84Ya1UwEABpIByvnMb96AAAAAElFTkSuQmCC",
     "contentType": "image/png",
     "groupId": "0",
     "height": 20,
     "width": 20,
     "values": [
      56.5
     ],
     "layerId": 2,
     "layerName": "Nivel: distritos"
    },
    {
     "label": "56,5% - 60,0%",
     "imageData": "iVBORw0KGgoAAAANSUhEUgAAABQAAAAUCAYAAACNiR0NAAAACXBIWXMAAA7EAAAOxAGVKw4bAAAAP0lEQVQ4jWOZM2fOfQYqAhYQsVTgIFUMi/5gDzGQmoBl1ECKAQvlRqCCUQMpByxUMAMFjBo4YsIw+oM91UwEABuKB464E0i7AAAAAElFTkSuQmCC",
     "contentType": "image/png",
     "groupId": "0",
     "height": 20,
     "width": 20,
     "values": [
      59.96
     ],
     "layerId": 2,
     "layerName": "Nivel: distritos"
    },
    {
     "label": "60,0% - 63,9%",
     "imageData": "iVBORw0KGgoAAAANSUhEUgAAABQAAAAUCAYAAACNiR0NAAAACXBIWXMAAA7EAAAOxAGVKw4bAAAAPklEQVQ4jWOZM2fOfQYqAhYQ0f5hJVUMqxQIhxhITcAyaiDFgIVyI1DBqIGUAxYqmIECRg0cMWFYKRBONRMBGZIG5C9rIqsAAAAASUVORK5CYII=",
     "contentType": "image/png",
     "groupId": "0",
     "height": 20,
     "width": 20,
     "values": [
      63.87
     ],
     "layerId": 2,
     "layerName": "Nivel: distritos"
    },
    {
     "label": "63,9% - 83,0%",
     "imageData": "iVBORw0KGgoAAAANSUhEUgAAABQAAAAUCAYAAACNiR0NAAAACXBIWXMAAA7EAAAOxAGVKw4bAAAAP0lEQVQ4jWOZM2fOfQYqAhYQkbJvGlUMm+OUBTGQmoBl1ECKAQvlRqCCUQMpByxUMAMFjBo4YsJwjlMW1UwEABraB0yGl9MaAAAAAElFTkSuQmCC",
     "contentType": "image/png",
     "groupId": "0",
     "height": 20,
     "width": 20,
     "values": [
      83.02
     ],
     "layerId": 2,
     "layerName": "Nivel: distritos"
    }
   ],
   "layerId": 2,
   "layerName": "Nivel: distritos",
   "serviceItemId": "a1c7044119ee477aa938ce8f8a212a21"
  },
  {
   "id": 3,
   "name": "Nivel: secciones",
   "parentLayerId": -1,
   "defaultVisibility": true,
   "subLayerIds": null,
   "minScale": 288894,
   "maxScale": 0,
   "type": "Feature Layer",
   "geometryType": "esriGeometryPolygon",
   "supportsDynamicLegends": true,
   "legend": [
    {
     "label": "20,9% - 49,0%",
     "imageData": "iVBORw0KGgoAAAANSUhEUgAAABQAAAAUCAYAAACNiR0NAAAACXBIWXMAAA7EAAAOxAGVKw4bAAAAP0lEQVQ4jWOZM2fOfgYqAhYQERTjRxXD1i3ZBDGQmoBl1ECKAQvlRqCCUQMpByxUMAMFjBo4YsJw3ZJNVDMRAFLJB+gIPEojAAAAAElFTkSuQmCC",
     "contentType": "image/png",
     "groupId": "0",
     "height": 20,
     "width": 20,
     "values": [
      49.04
     ],
     "layerId": 3,
     "layerName": "Nivel: secciones"
    },
    {
     "label": "49,0% - 54,0%",
     "imageData": "iVBORw0KGgoAAAANSUhEUgAAABQAAAAUCAYAAACNiR0NAAAACXBIWXMAAA7EAAAOxAGVKw4bAAAAP0lEQVQ4jWOZM2fOfgYqAhYQoe2nQhXDrm66AzGQmoBl1ECKAQvlRqCCUQMpByxUMAMFjBo4YsLw6qY7VDMRAFPjCEf+hw9vAAAAAElFTkSuQmCC",
     "contentType": "image/png",
     "groupId": "0",
     "height": 20,
     "width": 20,
     "values": [
      54.01
     ],
     "layerId": 3,
     "layerName": "Nivel: secciones"
    },
    {
     "label": "54,0% - 57,8%",
     "imageData": "iVBORw0KGgoAAAANSUhEUgAAABQAAAAUCAYAAACNiR0NAAAACXBIWXMAAA7EAAAOxAGVKw4bAAAAP0lEQVQ4jWOZM2fOfgYqAhYQwWb3nyqG/TrECDGQmoBl1ECKAQvlRqCCUQMpByxUMAMFjBo4YsLw1yFGqpkIAFLxB6GvRk8JAAAAAElFTkSuQmCC",
     "contentType": "image/png",
     "groupId": "0",
     "height": 20,
     "width": 20,
     "values": [
      57.75
     ],
     "layerId": 3,
     "layerName": "Nivel: secciones"
    },
    {
     "label": "57,8% - 60,9%",
     "imageData": "iVBORw0KGgoAAAANSUhEUgAAABQAAAAUCAYAAACNiR0NAAAACXBIWXMAAA7EAAAOxAGVKw4bAAAAP0lEQVQ4jWOZM2fOfgYqAhYQcUPjJlUM07ihDjGQmoBl1ECKAQvlRqCCUQMpByxUMAMFjBo4YsJQ44Y61UwEAFA3BwtYoZ+CAAAAAElFTkSuQmCC",
     "contentType": "image/png",
     "groupId": "0",
     "height": 20,
     "width": 20,
     "values": [
      60.9
     ],
     "layerId": 3,
     "layerName": "Nivel: secciones"
    },
    {
     "label": "60,9% - 64,0%",
     "imageData": "iVBORw0KGgoAAAANSUhEUgAAABQAAAAUCAYAAACNiR0NAAAACXBIWXMAAA7EAAAOxAGVKw4bAAAAP0lEQVQ4jWOZM2fOfgYqAhYQsZT/IFUMi/5oDzGQmoBl1ECKAQvlRqCCUQMpByxUMAMFjBo4YsIw+qM91UwEAFF+B2+zoFCwAAAAAElFTkSuQmCC",
     "contentType": "image/png",
     "groupId": "0",
     "height": 20,
     "width": 20,
     "values": [
      64.03
     ],
     "layerId": 3,
     "layerName": "Nivel: secciones"
    },
    {
     "label": "64,0% - 67,8%",
     "imageData": "iVBORw0KGgoAAAANSUhEUgAAABQAAAAUCAYAAACNiR0NAAAACXBIWXMAAA7EAAAOxAGVKw4bAAAAPklEQVQ4jWOZM2fOfgYqAhYQ0f5+JVUMqxQMhxhITcAyaiDFgIVyI1DBqIGUAxYqmIECRg0cMWFYKRhONRMBT4YGxUQ6mMwAAAAASUVORK5CYII=",
     "contentType": "image/png",
     "groupId": "0",
     "height": 20,
     "width": 20,
     "values": [
      67.8
     ],
     "layerId": 3,
     "layerName": "Nivel: secciones"
    },
    {
     "label": "67,8% - 88,1%",
     "imageData": "iVBORw0KGgoAAAANSUhEUgAAABQAAAAUCAYAAACNiR0NAAAACXBIWXMAAA7EAAAOxAGVKw4bAAAAP0lEQVQ4jWOZM2fOfgYqAhYQkbJ3KlUMm+OcDTGQmoBl1ECKAQvlRqCCUQMpByxUMAMFjBo4YsJwjnM21UwEAFDQBy4riamMAAAAAElFTkSuQmCC",
     "contentType": "image/png",
     "groupId": "0",
     "height": 20,
     "width": 20,
     "values": [
      88.07
     ],
     "layerId": 3,
     "layerName": "Nivel: secciones"
    }
   ],
   "layerId": 3,
   "layerName": "Nivel: secciones",
   "serviceItemId": "a1c7044119ee477aa938ce8f8a212a21"
  }
 ],
 "initialExtent": {
  "xmin": -2823869.7882376797,
  "ymin": 3036391.815798123,
  "xmax": 751194.1133024925,
  "ymax": 5680131.067119114,
  "spatialReference": {
   "wkid": 102100,
   "latestWkid": 3857
  }
 },
 "fullExtent": {
  "xmin": -2823869.7882376797,
  "ymin": 3036391.815798123,
  "xmax": 751194.1133024925,
  "ymax": 5680131.067119114,
  "spatialReference": {
   "wkid": 102100,
   "latestWkid": 3857
  }
 },
 "minScale": 0,
 "maxScale": 0,
 "exportTilesAllowed": false,
 "maxExportTilesCount": 0,
 "currentVersion": 11.3,
 "mapName": "ADRH 2023_Porcentaje salario sobre renta bruta",
 "singleFusedMapCache": true,
 "type": "MapServer",
 "supportedExtensions": "",
 "capabilities": "TilesOnly,Tilemap",
 "serviceItemId": "a1c7044119ee477aa938ce8f8a212a21"
}
