{
 "version": 1.0,
 "tileBundlesPath": "./tile",
 "storageInfo": {
  "packetSize": 128,
  "storageFormat": "esriMapCacheStorageModeCompactV2"
 },
 "tileImageInfo": {
  "format": "PNG8",
  "compressionQuality": 0,
  "bandCount": 1,
  "lercError": 0
 },
 "tileInfo": {
  "spatialReference": {
   "wkid": 102100,
   "latestWkid": 3857
  },
  "origin": {
   "x": -2.0037508342787E7,
   "y": 2.0037508342787E7
  },
  "rows": 256,
  "cols": 256,
  "dpi": 96,
  "lods": [
   {
    "level": 0,
    "resolution": 156543.033928,
    "scale": 5.91657527591555E8
   },
   {
    "level": 1,
    "resolution": 78271.5169639999,
    "scale": 2.95828763795777E8
   },
   {
    "level": 2,
    "resolution": 39135.7584820001,
    "scale": 1.47914381897889E8
   },
   {
    "level": 3,
    "resolution": 19567.8792409999,
    "scale": 7.3957190948944E7
   },
   {
    "level": 4,
    "resolution": 9783.93962049996,
    "scale": 3.6978595474472E7
   },
   {
    "level": 5,
    "resolution": 4891.96981024998,
    "scale": 1.8489297737236E7
   },
   {
    "level": 6,
    "resolution": 2445.98490512499,
    "scale": 9244648.868618
   },
   {
    "level": 7,
    "resolution": 1222.99245256249,
    "scale": 4622324.434309
   },
   {
    "level": 8,
    "resolution": 611.49622628138,
    "scale": 2311162.217155
   },
   {
    "level": 9,
    "resolution": 305.748113140558,
    "scale": 1155581.108577
   },
   {
    "level": 10,
    "resolution": 152.874056570411,
    "scale": 577790.554289
   },
   {
    "level": 11,
    "resolution": 76.4370282850732,
    "scale": 288895.277144
   },
   {
    "level": 12,
    "resolution": 38.2185141425366,
    "scale": 144447.638572
   },
   {
    "level": 13,
    "resolution": 19.1092570712683,
    "scale": 72223.819286
   },
   {
    "level": 14,
    "resolution": 9.55462853563415,
    "scale": 36111.909643
   },
   {
    "level": 15,
    "resolution": 4.77731426794937,
    "scale": 18055.954822
   },
   {
    "level": 16,
    "resolution": 2.38865713397468,
    "scale": 9027.977411
   },
   {
    "level": 17,
    "resolution": 1.19432856685505,
    "scale": 4513.988705
   },
   {
    "level": 18,
    "resolution": 0.597164283559817,
    "scale": 2256.994353
   },
   {
    "level": 19,
    "resolution": 0.298582141647617,
    "scale": 1128.497176
   },
   {
    "level": 20,
    "resolution": 0.14929107082380833,
    "scale": 564.248588
   },
   {
    "level": 21,
    "resolution": 0.07464553541190416,
    "scale": 282.124294
   },
   {
    "level": 22,
    "resolution": 0.03732276770595208,
    "scale": 141.062147
   },
   {
    "level": 23,
    "resolution": 0.01866138385297604,
    "scale": 70.5310735
   }
  ],
  "format": "PNG8",
  "compressionQuality": 0,
  "bandCount": 1,
  "lercError": 0,
  "storageFormat": "esriMapCacheStorageModeCompactV2",
  "packetSize": 128
 },
 "name": "Censo 2025 _ Porcentaje de extranjeros _ cache",
 "serviceDescription": "",
 "spatialReference": {
  "wkid": 102100,
  "latestWkid": 3857,
  "xyTolerance": 0.001,
  "zTolerance": 0.001,
  "mTolerance": 0.001,
  "falseX": -20037700,
  "falseY": -30241100,
  "xyUnits": 1.4892314192838538E8,
  "falseZ": -100000,
  "zUnits": 10000,
  "falseM": -100000,
  "mUnits": 10000
 },
 "units": "esriMeters",
 "minLOD": 5,
 "maxLOD": 16,
 "resampling": true,
 "layers": [
  {
   "id": 0,
   "name": "contornos",
   "parentLayerId": -1,
   "defaultVisibility": true,
   "subLayerIds": null,
   "minScale": 750000,
   "maxScale": 0,
   "type": "Feature Layer",
   "geometryType": "esriGeometryPolygon",
   "supportsDynamicLegends": true,
   "legend": [
    {
     "label": "Contornos",
     "imageData": "iVBORw0KGgoAAAANSUhEUgAAABQAAAAUCAYAAACNiR0NAAAACXBIWXMAAA7EAAAOxAGVKw4bAAAAPklEQVQ4je3VIRIAMAgDwXYm77vH8kE6rUMTV04gV8QgIJcx3RMR24EB+UBnGrCd+kRtwH4yGKUBv9kQ4xs4GKgII4/Mt0oAAAAASUVORK5CYII=",
     "contentType": "image/png",
     "groupId": "0",
     "height": 20,
     "width": 20,
     "layerId": 0,
     "layerName": "contornos"
    }
   ],
   "layerId": 0,
   "layerName": "contornos",
   "serviceItemId": "1d3adc87f2074cac8fe229305dacf761"
  },
  {
   "id": 1,
   "name": "Nivel: municipios",
   "parentLayerId": -1,
   "defaultVisibility": true,
   "subLayerIds": null,
   "minScale": 0,
   "maxScale": 80000,
   "type": "Feature Layer",
   "geometryType": "esriGeometryPolygon",
   "supportsDynamicLegends": true,
   "legend": [
    {
     "label": "0,00% - 3,16%",
     "imageData": "iVBORw0KGgoAAAANSUhEUgAAABQAAAAUCAYAAACNiR0NAAAACXBIWXMAAA7EAAAOxAGVKw4bAAAANElEQVQ4jWN5++PlfwYqAhZqGgYCowZSDlioYAYKGDWQcsBCBTNQwKiBlAMWKpjBMMINBAAVQwQeKL3DKgAAAABJRU5ErkJggg==",
     "contentType": "image/png",
     "groupId": "0",
     "height": 20,
     "width": 20,
     "values": [
      3.1592015923809154
     ],
     "layerId": 1,
     "layerName": "Nivel: municipios"
    },
    {
     "label": "3,16% - 4,40%",
     "imageData": "iVBORw0KGgoAAAANSUhEUgAAABQAAAAUCAYAAACNiR0NAAAACXBIWXMAAA7EAAAOxAGVKw4bAAAANElEQVQ4jWM5/vLAfwYqAhZqGgYCowZSDlioYAYKGDWQcsBCBTNQwKiBlAMWKpjBMMINBADC/QPAXMbLWAAAAABJRU5ErkJggg==",
     "contentType": "image/png",
     "groupId": "0",
     "height": 20,
     "width": 20,
     "values": [
      4.398932245761835
     ],
     "layerId": 1,
     "layerName": "Nivel: municipios"
    },
    {
     "label": "4,40% - 7,56%",
     "imageData": "iVBORw0KGgoAAAANSUhEUgAAABQAAAAUCAYAAACNiR0NAAAACXBIWXMAAA7EAAAOxAGVKw4bAAAANElEQVQ4jWNZeHP2fwYqAhZqGgYCowZSDlioYAYKGDWQcsBCBTNQwKiBlAMWKpjBMMINBACDuANlFje5IAAAAABJRU5ErkJggg==",
     "contentType": "image/png",
     "groupId": "0",
     "height": 20,
     "width": 20,
     "values": [
      7.558133838142751
     ],
     "layerId": 1,
     "layerName": "Nivel: municipios"
    },
    {
     "label": "7,56% - 15,61%",
     "imageData": "iVBORw0KGgoAAAANSUhEUgAAABQAAAAUCAYAAACNiR0NAAAACXBIWXMAAA7EAAAOxAGVKw4bAAAAM0lEQVQ4jWMpOVL2n4GKgIWahoHAqIGUAxYqmIECRg2kHLBQwQwUMGog5YCFCmYwjHADAfiFAv7HpI4aAAAAAElFTkSuQmCC",
     "contentType": "image/png",
     "groupId": "0",
     "height": 20,
     "width": 20,
     "values": [
      15.60871698221822
     ],
     "layerId": 1,
     "layerName": "Nivel: municipios"
    },
    {
     "label": "15,61% - 36,12%",
     "imageData": "iVBORw0KGgoAAAANSUhEUgAAABQAAAAUCAYAAACNiR0NAAAACXBIWXMAAA7EAAAOxAGVKw4bAAAAM0lEQVQ4jWMxXBzyn4GKgIWahoHAqIGUAxYqmIECRg2kHLBQwQwUMGog5YCFCmYwjHADAalLAnj5iKJ+AAAAAElFTkSuQmCC",
     "contentType": "image/png",
     "groupId": "0",
     "height": 20,
     "width": 20,
     "values": [
      36.12399182760312
     ],
     "layerId": 1,
     "layerName": "Nivel: municipios"
    },
    {
     "label": "36,12% - 88,40%",
     "imageData": "iVBORw0KGgoAAAANSUhEUgAAABQAAAAUCAYAAACNiR0NAAAACXBIWXMAAA7EAAAOxAGVKw4bAAAAM0lEQVQ4jWNhyNX5z0BFwEJNw0Bg1EDKAQsVzEABowZSDlioYAYKGDWQcsBCBTMYRriBACFHAen697DAAAAAAElFTkSuQmCC",
     "contentType": "image/png",
     "groupId": "0",
     "height": 20,
     "width": 20,
     "values": [
      88.403
     ],
     "layerId": 1,
     "layerName": "Nivel: municipios"
    }
   ],
   "layerId": 1,
   "layerName": "Nivel: municipios",
   "serviceItemId": "1d3adc87f2074cac8fe229305dacf761"
  },
  {
   "id": 2,
   "name": "Nivel: secciones",
   "parentLayerId": -1,
   "defaultVisibility": true,
   "subLayerIds": null,
   "minScale": 80000,
   "maxScale": 0,
   "type": "Feature Layer",
   "geometryType": "esriGeometryPolygon",
   "supportsDynamicLegends": true,
   "legend": [
    {
     "label": "0,00% - 4,36%",
     "imageData": "iVBORw0KGgoAAAANSUhEUgAAABQAAAAUCAYAAACNiR0NAAAACXBIWXMAAA7EAAAOxAGVKw4bAAAAPklEQVQ4jWPJy8v7z0BFwAIi6ruqqWJYY1krxEBqApZRAykGLJQbgQpGDaQcsFDBDBQwauCICcPGslaqmQgAfN8HFkegV7cAAAAASUVORK5CYII=",
     "contentType": "image/png",
     "groupId": "0",
     "height": 20,
     "width": 20,
     "values": [
      4.360058374502979
     ],
     "layerId": 2,
     "layerName": "Nivel: secciones"
    },
    {
     "label": "4,36% - 6,34%",
     "imageData": "iVBORw0KGgoAAAANSUhEUgAAABQAAAAUCAYAAACNiR0NAAAACXBIWXMAAA7EAAAOxAGVKw4bAAAAPklEQVQ4jWPJy8v7z0BFwAIiIquDqGLY8tZ1EAOpCVhGDaQYsFBuBCoYNZBywEIFM1DAqIEjJgyXt66jmokAffYHdN/Fwp8AAAAASUVORK5CYII=",
     "contentType": "image/png",
     "groupId": "0",
     "height": 20,
     "width": 20,
     "values": [
      6.335855293391188
     ],
     "layerId": 2,
     "layerName": "Nivel: secciones"
    },
    {
     "label": "6,34% - 10,70%",
     "imageData": "iVBORw0KGgoAAAANSUhEUgAAABQAAAAUCAYAAACNiR0NAAAACXBIWXMAAA7EAAAOxAGVKw4bAAAAP0lEQVQ4jWPJy8v7z0BFwAIijLN1qWLY2amXIQZSE7CMGkgxYKHcCFQwaiDlgIUKZqCAUQNHTBienXqZaiYCAH8IB8/O+p7/AAAAAElFTkSuQmCC",
     "contentType": "image/png",
     "groupId": "0",
     "height": 20,
     "width": 20,
     "values": [
      10.695913667894168
     ],
     "layerId": 2,
     "layerName": "Nivel: secciones"
    },
    {
     "label": "10,70% - 20,32%",
     "imageData": "iVBORw0KGgoAAAANSUhEUgAAABQAAAAUCAYAAACNiR0NAAAACXBIWXMAAA7EAAAOxAGVKw4bAAAAP0lEQVQ4jWPJy8v7z0BFwAIi2MI4qGLYr1U/IAZSE7CMGkgxYKHcCFQwaiDlgIUKZqCAUQNHTBj+WvWDaiYCAIBFCDbEGsDCAAAAAElFTkSuQmCC",
     "contentType": "image/png",
     "groupId": "0",
     "height": 20,
     "width": 20,
     "values": [
      20.31740302610748
     ],
     "layerId": 2,
     "layerName": "Nivel: secciones"
    },
    {
     "label": "20,32% - 41,55%",
     "imageData": "iVBORw0KGgoAAAANSUhEUgAAABQAAAAUCAYAAACNiR0NAAAACXBIWXMAAA7EAAAOxAGVKw4bAAAAPklEQVQ4jWPJy8v7z0BFwAIiDps+o4phtqelIAZSE7CMGkgxYKHcCFQwaiDlgIUKZqCAUQNHTBjanpaimokAe/gGvGjhOn0AAAAASUVORK5CYII=",
     "contentType": "image/png",
     "groupId": "0",
     "height": 20,
     "width": 20,
     "values": [
      41.54947138821164
     ],
     "layerId": 2,
     "layerName": "Nivel: secciones"
    },
    {
     "label": "41,55% - 88,40%",
     "imageData": "iVBORw0KGgoAAAANSUhEUgAAABQAAAAUCAYAAACNiR0NAAAACXBIWXMAAA7EAAAOxAGVKw4bAAAAPklEQVQ4jWPJy8v7z0BFwAIiJv3fRxXD8hidIAZSE7CMGkgxYKHcCFQwaiDlgIUKZqCAUQNHTBjmMTpRzUQAeq4GS/YL8iwAAAAASUVORK5CYII=",
     "contentType": "image/png",
     "groupId": "0",
     "height": 20,
     "width": 20,
     "values": [
      88.403
     ],
     "layerId": 2,
     "layerName": "Nivel: secciones"
    }
   ],
   "layerId": 2,
   "layerName": "Nivel: secciones",
   "serviceItemId": "1d3adc87f2074cac8fe229305dacf761"
  }
 ],
 "initialExtent": {
  "xmin": -2366490.5611557825,
  "ymin": 3182989.5408849437,
  "xmax": 530911.8282695931,
  "ymax": 5447856.8987714555,
  "spatialReference": {
   "wkid": 102100,
   "latestWkid": 3857,
   "xyTolerance": 0.001,
   "zTolerance": 0.001,
   "mTolerance": 0.001,
   "falseX": -20037700,
   "falseY": -30241100,
   "xyUnits": 1.4892314192838538E8,
   "falseZ": -100000,
   "zUnits": 10000,
   "falseM": -100000,
   "mUnits": 10000
  }
 },
 "fullExtent": {
  "xmin": -2366490.5611557825,
  "ymin": 3182989.5408849437,
  "xmax": 530911.8282695931,
  "ymax": 5447856.8987714555,
  "spatialReference": {
   "wkid": 102100,
   "latestWkid": 3857,
   "xyTolerance": 0.001,
   "zTolerance": 0.001,
   "mTolerance": 0.001,
   "falseX": -20037700,
   "falseY": -30241100,
   "xyUnits": 1.4892314192838538E8,
   "falseZ": -100000,
   "zUnits": 10000,
   "falseM": -100000,
   "mUnits": 10000
  }
 },
 "minScale": 0,
 "maxScale": 0,
 "exportTilesAllowed": false,
 "maxExportTilesCount": 0,
 "currentVersion": 11.3,
 "mapName": "Censo 2025 _ Porcentaje de extranjeros _ cache",
 "singleFusedMapCache": true,
 "type": "MapServer",
 "supportedExtensions": "",
 "capabilities": "TilesOnly,Tilemap",
 "serviceItemId": "1d3adc87f2074cac8fe229305dacf761"
}
