{
 "version": 1.0,
 "tileBundlesPath": "./tile",
 "storageInfo": {
  "packetSize": 128,
  "storageFormat": "esriMapCacheStorageModeCompactV2"
 },
 "tileImageInfo": {
  "format": "PNG8",
  "compressionQuality": 0,
  "bandCount": 1,
  "lercError": 0
 },
 "tileInfo": {
  "spatialReference": {
   "wkid": 102100,
   "latestWkid": 3857
  },
  "origin": {
   "x": -2.0037508342787E7,
   "y": 2.0037508342787E7
  },
  "rows": 256,
  "cols": 256,
  "dpi": 96,
  "lods": [
   {
    "level": 0,
    "resolution": 156543.033928,
    "scale": 5.91657527591555E8
   },
   {
    "level": 1,
    "resolution": 78271.5169639999,
    "scale": 2.95828763795777E8
   },
   {
    "level": 2,
    "resolution": 39135.7584820001,
    "scale": 1.47914381897889E8
   },
   {
    "level": 3,
    "resolution": 19567.8792409999,
    "scale": 7.3957190948944E7
   },
   {
    "level": 4,
    "resolution": 9783.93962049996,
    "scale": 3.6978595474472E7
   },
   {
    "level": 5,
    "resolution": 4891.96981024998,
    "scale": 1.8489297737236E7
   },
   {
    "level": 6,
    "resolution": 2445.98490512499,
    "scale": 9244648.868618
   },
   {
    "level": 7,
    "resolution": 1222.99245256249,
    "scale": 4622324.434309
   },
   {
    "level": 8,
    "resolution": 611.49622628138,
    "scale": 2311162.217155
   },
   {
    "level": 9,
    "resolution": 305.748113140558,
    "scale": 1155581.108577
   },
   {
    "level": 10,
    "resolution": 152.874056570411,
    "scale": 577790.554289
   },
   {
    "level": 11,
    "resolution": 76.4370282850732,
    "scale": 288895.277144
   },
   {
    "level": 12,
    "resolution": 38.2185141425366,
    "scale": 144447.638572
   },
   {
    "level": 13,
    "resolution": 19.1092570712683,
    "scale": 72223.819286
   },
   {
    "level": 14,
    "resolution": 9.55462853563415,
    "scale": 36111.909643
   },
   {
    "level": 15,
    "resolution": 4.77731426794937,
    "scale": 18055.954822
   },
   {
    "level": 16,
    "resolution": 2.38865713397468,
    "scale": 9027.977411
   },
   {
    "level": 17,
    "resolution": 1.19432856685505,
    "scale": 4513.988705
   },
   {
    "level": 18,
    "resolution": 0.597164283559817,
    "scale": 2256.994353
   },
   {
    "level": 19,
    "resolution": 0.298582141647617,
    "scale": 1128.497176
   },
   {
    "level": 20,
    "resolution": 0.14929107082380833,
    "scale": 564.248588
   },
   {
    "level": 21,
    "resolution": 0.07464553541190416,
    "scale": 282.124294
   },
   {
    "level": 22,
    "resolution": 0.03732276770595208,
    "scale": 141.062147
   },
   {
    "level": 23,
    "resolution": 0.01866138385297604,
    "scale": 70.5310735
   }
  ],
  "format": "PNG8",
  "compressionQuality": 0,
  "bandCount": 1,
  "lercError": 0,
  "storageFormat": "esriMapCacheStorageModeCompactV2",
  "packetSize": 128
 },
 "name": "DIRCE restoservicios 2025 cache",
 "serviceDescription": "",
 "spatialReference": {
  "wkid": 102100,
  "latestWkid": 3857,
  "xyTolerance": 0.001,
  "zTolerance": 0.001,
  "mTolerance": 0.001,
  "falseX": -20037700,
  "falseY": -30241100,
  "xyUnits": 1.4892314192838538E8,
  "falseZ": -100000,
  "zUnits": 10000,
  "falseM": -100000,
  "mUnits": 10000
 },
 "units": "esriMeters",
 "minLOD": 5,
 "maxLOD": 14,
 "resampling": true,
 "layers": [
  {
   "id": 0,
   "name": "contornos",
   "parentLayerId": -1,
   "defaultVisibility": true,
   "subLayerIds": null,
   "minScale": 750000,
   "maxScale": 0,
   "type": "Feature Layer",
   "geometryType": "esriGeometryPolygon",
   "supportsDynamicLegends": true,
   "legend": [
    {
     "label": "Contornos",
     "imageData": "iVBORw0KGgoAAAANSUhEUgAAABQAAAAUCAYAAACNiR0NAAAACXBIWXMAAA7EAAAOxAGVKw4bAAAAN0lEQVQ4je3QoREAMBACQTJD/y0Tk4jX4J4zuBUQgBCMb0/I0wdjsaAdfWJW0I8BY1Rw04dKiRdWjgNPSyeLfgAAAABJRU5ErkJggg==",
     "contentType": "image/png",
     "groupId": "0",
     "height": 20,
     "width": 20,
     "layerId": 0,
     "layerName": "contornos"
    }
   ],
   "layerId": 0,
   "layerName": "contornos",
   "serviceItemId": "e5d8f47ba7b24a43b05d298abb7897eb"
  },
  {
   "id": 1,
   "name": "Nivel: provincias",
   "parentLayerId": -1,
   "defaultVisibility": true,
   "subLayerIds": null,
   "minScale": 0,
   "maxScale": 3000000,
   "type": "Feature Layer",
   "geometryType": "esriGeometryPolygon",
   "supportsDynamicLegends": true,
   "legend": [
    {
     "label": "1.427 - 9.546",
     "imageData": "iVBORw0KGgoAAAANSUhEUgAAABQAAAAUCAYAAACNiR0NAAAACXBIWXMAAA7EAAAOxAGVKw4bAAAAPklEQVQ4jWPJy8v7z0BFwAIilrGsoophUX/CIAZSE7CMGkgxYKHcCFQwaiDlgIUKZqCAUQNHTBhG/QmjmokAfXcHRhcrnL4AAAAASUVORK5CYII=",
     "contentType": "image/png",
     "groupId": "0",
     "height": 20,
     "width": 20,
     "values": [
      9546.474362785206
     ],
     "layerId": 1,
     "layerName": "Nivel: provincias"
    },
    {
     "label": "9.547 - 11.017",
     "imageData": "iVBORw0KGgoAAAANSUhEUgAAABQAAAAUCAYAAACNiR0NAAAACXBIWXMAAA7EAAAOxAGVKw4bAAAAPklEQVQ4jWPJy8v7z0BFwAIi+LyWU8WwT9siIQZSE7CMGkgxYKHcCFQwaiDlgIUKZqCAUQNHTBh+2hZJNRMBfwsHmw6/sc8AAAAASUVORK5CYII=",
     "contentType": "image/png",
     "groupId": "0",
     "height": 20,
     "width": 20,
     "values": [
      11016.552486444018
     ],
     "layerId": 1,
     "layerName": "Nivel: provincias"
    },
    {
     "label": "11.018 - 19.136",
     "imageData": "iVBORw0KGgoAAAANSUhEUgAAABQAAAAUCAYAAACNiR0NAAAACXBIWXMAAA7EAAAOxAGVKw4bAAAAPklEQVQ4jWPJy8v7z0BFwAIiWibsoYphNQUuEAOpCVhGDaQYsFBuBCoYNZBywEIFM1DAqIEjJgxrClyoZiIAfDcGygYSW04AAAAASUVORK5CYII=",
     "contentType": "image/png",
     "groupId": "0",
     "height": 20,
     "width": 20,
     "values": [
      19136.026849229223
     ],
     "layerId": 1,
     "layerName": "Nivel: provincias"
    },
    {
     "label": "19.137 - 63.981",
     "imageData": "iVBORw0KGgoAAAANSUhEUgAAABQAAAAUCAYAAACNiR0NAAAACXBIWXMAAA7EAAAOxAGVKw4bAAAAPklEQVQ4jWPJy8v7z0BFwAIiJtqtooph+YfCIAZSE7CMGkgxYKHcCFQwaiDlgIUKZqCAUQNHTBjmHwqjmokAfR0HIdtl2jsAAAAASUVORK5CYII=",
     "contentType": "image/png",
     "groupId": "0",
     "height": 20,
     "width": 20,
     "values": [
      63981.1700201556
     ],
     "layerId": 1,
     "layerName": "Nivel: provincias"
    },
    {
     "label": "63.982 - 311.668",
     "imageData": "iVBORw0KGgoAAAANSUhEUgAAABQAAAAUCAYAAACNiR0NAAAACXBIWXMAAA7EAAAOxAGVKw4bAAAAPklEQVQ4jWPJy8v7z0BFwAIiJpxbTRXDCoxCIQZSE7CMGkgxYKHcCFQwaiDlgIUKZqCAUQNHTBgWGIVSzUQAe28GkatgN+AAAAAASUVORK5CYII=",
     "contentType": "image/png",
     "groupId": "0",
     "height": 20,
     "width": 20,
     "values": [
      311668
     ],
     "layerId": 1,
     "layerName": "Nivel: provincias"
    }
   ],
   "layerId": 1,
   "layerName": "Nivel: provincias",
   "serviceItemId": "e5d8f47ba7b24a43b05d298abb7897eb"
  },
  {
   "id": 2,
   "name": "Nivel: municipios",
   "parentLayerId": -1,
   "defaultVisibility": true,
   "subLayerIds": null,
   "minScale": 3000000,
   "maxScale": 0,
   "type": "Feature Layer",
   "geometryType": "esriGeometryPolygon",
   "supportsDynamicLegends": true,
   "legend": [
    {
     "label": "",
     "imageData": "iVBORw0KGgoAAAANSUhEUgAAABQAAAAUCAYAAACNiR0NAAAACXBIWXMAAA7EAAAOxAGVKw4bAAAAKklEQVQ4je3MIQEAAAzDsIP613w83MFFQLgyFmr4Ii30KBxhoUfhCAtPexArAFF5acCuAAAAAElFTkSuQmCC",
     "contentType": "image/png",
     "groupId": "0",
     "height": 20,
     "width": 20,
     "values": [
      3
     ],
     "layerId": 2,
     "layerName": "Nivel: municipios"
    },
    {
     "label": "4 - 47",
     "imageData": "iVBORw0KGgoAAAANSUhEUgAAABQAAAAUCAYAAACNiR0NAAAACXBIWXMAAA7EAAAOxAGVKw4bAAAAM0lEQVQ4jWNhKGD7z0BFwEJNw0Bg1EDKAQsVzEABowZSDlioYAYKGDWQcsBCBTMYRriBAEQoAcb0S+leAAAAAElFTkSuQmCC",
     "contentType": "image/png",
     "groupId": "0",
     "height": 20,
     "width": 20,
     "values": [
      46.804555035874166
     ],
     "layerId": 2,
     "layerName": "Nivel: municipios"
    },
    {
     "label": "48 - 386",
     "imageData": "iVBORw0KGgoAAAANSUhEUgAAABQAAAAUCAYAAACNiR0NAAAACXBIWXMAAA7EAAAOxAGVKw4bAAAAM0lEQVQ4jWOp3SH4n4GKgIWahoHAqIGUAxYqmIECRg2kHLBQwQwUMGog5YCFCmYwjHADAWeFApZxpm9kAAAAAElFTkSuQmCC",
     "contentType": "image/png",
     "groupId": "0",
     "height": 20,
     "width": 20,
     "values": [
      385.5921398376343
     ],
     "layerId": 2,
     "layerName": "Nivel: municipios"
    },
    {
     "label": "387 - 3.067",
     "imageData": "iVBORw0KGgoAAAANSUhEUgAAABQAAAAUCAYAAACNiR0NAAAACXBIWXMAAA7EAAAOxAGVKw4bAAAANElEQVQ4jWP5+EfuPwMVAQs1DQOBUQMpByxUMAMFjBpIOWChghkoYNRAygELFcxgGOEGAgBFUQNbWPbzoAAAAABJRU5ErkJggg==",
     "contentType": "image/png",
     "groupId": "0",
     "height": 20,
     "width": 20,
     "values": [
      3067.013019452341
     ],
     "layerId": 2,
     "layerName": "Nivel: municipios"
    },
    {
     "label": "3.068 - 24.290",
     "imageData": "iVBORw0KGgoAAAANSUhEUgAAABQAAAAUCAYAAACNiR0NAAAACXBIWXMAAA7EAAAOxAGVKw4bAAAANElEQVQ4jWP5v1LkPwMVAQs1DQOBUQMpByxUMAMFjBpIOWChghkoYNRAygELFcxgGOEGAgBR/QMM/4O4/wAAAABJRU5ErkJggg==",
     "contentType": "image/png",
     "groupId": "0",
     "height": 20,
     "width": 20,
     "values": [
      24289.803511733546
     ],
     "layerId": 2,
     "layerName": "Nivel: municipios"
    },
    {
     "label": "24.291 - 192.263",
     "imageData": "iVBORw0KGgoAAAANSUhEUgAAABQAAAAUCAYAAACNiR0NAAAACXBIWXMAAA7EAAAOxAGVKw4bAAAAM0lEQVQ4jWP5ZcX1n4GKgIWahoHAqIGUAxYqmIECRg2kHLBQwQwUMGog5YCFCmYwjHADATV5Ao4KfvjRAAAAAElFTkSuQmCC",
     "contentType": "image/png",
     "groupId": "0",
     "height": 20,
     "width": 20,
     "values": [
      192263
     ],
     "layerId": 2,
     "layerName": "Nivel: municipios"
    }
   ],
   "layerId": 2,
   "layerName": "Nivel: municipios",
   "serviceItemId": "e5d8f47ba7b24a43b05d298abb7897eb"
  }
 ],
 "initialExtent": {
  "xmin": -2366490.5611557825,
  "ymin": 3182989.5407879646,
  "xmax": 530911.8282695931,
  "ymax": 5447856.898625868,
  "spatialReference": {
   "wkid": 102100,
   "latestWkid": 3857,
   "xyTolerance": 0.001,
   "zTolerance": 0.001,
   "mTolerance": 0.001,
   "falseX": -20037700,
   "falseY": -30241100,
   "xyUnits": 1.4892314192838538E8,
   "falseZ": -100000,
   "zUnits": 10000,
   "falseM": -100000,
   "mUnits": 10000
  }
 },
 "fullExtent": {
  "xmin": -2366490.5611557825,
  "ymin": 3182989.5407879646,
  "xmax": 530911.8282695931,
  "ymax": 5447856.898625868,
  "spatialReference": {
   "wkid": 102100,
   "latestWkid": 3857,
   "xyTolerance": 0.001,
   "zTolerance": 0.001,
   "mTolerance": 0.001,
   "falseX": -20037700,
   "falseY": -30241100,
   "xyUnits": 1.4892314192838538E8,
   "falseZ": -100000,
   "zUnits": 10000,
   "falseM": -100000,
   "mUnits": 10000
  }
 },
 "minScale": 0,
 "maxScale": 0,
 "exportTilesAllowed": false,
 "maxExportTilesCount": 0,
 "currentVersion": 11.3,
 "mapName": "DIRCE restoservicios 2025 cache",
 "singleFusedMapCache": true,
 "type": "MapServer",
 "supportedExtensions": "",
 "capabilities": "TilesOnly,Tilemap",
 "serviceItemId": "e5d8f47ba7b24a43b05d298abb7897eb"
}
