{
 "version": 1.0,
 "tileBundlesPath": "./tile",
 "storageInfo": {
  "packetSize": 128,
  "storageFormat": "esriMapCacheStorageModeCompactV2"
 },
 "tileImageInfo": {
  "format": "PNG",
  "compressionQuality": 0,
  "bandCount": 1,
  "lercError": 0
 },
 "tileInfo": {
  "spatialReference": {
   "wkid": 102100,
   "latestWkid": 3857
  },
  "origin": {
   "x": -2.0037508342787E7,
   "y": 2.0037508342787E7
  },
  "rows": 256,
  "cols": 256,
  "dpi": 96,
  "lods": [
   {
    "level": 0,
    "resolution": 156543.033928,
    "scale": 5.91657527591555E8
   },
   {
    "level": 1,
    "resolution": 78271.5169639999,
    "scale": 2.95828763795777E8
   },
   {
    "level": 2,
    "resolution": 39135.7584820001,
    "scale": 1.47914381897889E8
   },
   {
    "level": 3,
    "resolution": 19567.8792409999,
    "scale": 7.3957190948944E7
   },
   {
    "level": 4,
    "resolution": 9783.93962049996,
    "scale": 3.6978595474472E7
   },
   {
    "level": 5,
    "resolution": 4891.96981024998,
    "scale": 1.8489297737236E7
   },
   {
    "level": 6,
    "resolution": 2445.98490512499,
    "scale": 9244648.868618
   },
   {
    "level": 7,
    "resolution": 1222.99245256249,
    "scale": 4622324.434309
   },
   {
    "level": 8,
    "resolution": 611.49622628138,
    "scale": 2311162.217155
   },
   {
    "level": 9,
    "resolution": 305.748113140558,
    "scale": 1155581.108577
   },
   {
    "level": 10,
    "resolution": 152.874056570411,
    "scale": 577790.554289
   },
   {
    "level": 11,
    "resolution": 76.4370282850732,
    "scale": 288895.277144
   },
   {
    "level": 12,
    "resolution": 38.2185141425366,
    "scale": 144447.638572
   },
   {
    "level": 13,
    "resolution": 19.1092570712683,
    "scale": 72223.819286
   },
   {
    "level": 14,
    "resolution": 9.55462853563415,
    "scale": 36111.909643
   },
   {
    "level": 15,
    "resolution": 4.77731426794937,
    "scale": 18055.954822
   },
   {
    "level": 16,
    "resolution": 2.38865713397468,
    "scale": 9027.977411
   },
   {
    "level": 17,
    "resolution": 1.19432856685505,
    "scale": 4513.988705
   },
   {
    "level": 18,
    "resolution": 0.597164283559817,
    "scale": 2256.994353
   },
   {
    "level": 19,
    "resolution": 0.298582141647617,
    "scale": 1128.497176
   },
   {
    "level": 20,
    "resolution": 0.14929107082380833,
    "scale": 564.248588
   },
   {
    "level": 21,
    "resolution": 0.07464553541190416,
    "scale": 282.124294
   },
   {
    "level": 22,
    "resolution": 0.03732276770595208,
    "scale": 141.062147
   },
   {
    "level": 23,
    "resolution": 0.01866138385297604,
    "scale": 70.5310735
   }
  ],
  "format": "PNG",
  "compressionQuality": 0,
  "bandCount": 1,
  "lercError": 0,
  "storageFormat": "esriMapCacheStorageModeCompactV2",
  "packetSize": 128
 },
 "name": "ADRH 2024_Renta media por persona",
 "serviceDescription": "",
 "spatialReference": {
  "wkid": 102100,
  "latestWkid": 3857,
  "xyTolerance": 0.001,
  "zTolerance": 0.001,
  "mTolerance": 0.001,
  "falseX": -20037700,
  "falseY": -30241100,
  "xyUnits": 1.4892314192838538E8,
  "falseZ": -100000,
  "zUnits": 10000,
  "falseM": -100000,
  "mUnits": 10000
 },
 "units": "esriMeters",
 "minLOD": 5,
 "maxLOD": 16,
 "resampling": true,
 "layers": [
  {
   "id": 0,
   "name": "Contornos Municipales 2024",
   "parentLayerId": -1,
   "defaultVisibility": true,
   "subLayerIds": null,
   "minScale": 1155580,
   "maxScale": 0,
   "type": "Feature Layer",
   "geometryType": "esriGeometryPolygon",
   "supportsDynamicLegends": true,
   "legend": [
    {
     "label": "Contornos Municipales 2024",
     "imageData": "iVBORw0KGgoAAAANSUhEUgAAABQAAAAUCAYAAACNiR0NAAAACXBIWXMAAA7EAAAOxAGVKw4bAAAAN0lEQVQ4je3QoREAMBACQTJD/y0Tk4jX4J4zuBUQgBCMb0/I0wdjsaAdfWJW0I8BY1Rw04dKiRdWjgNPSyeLfgAAAABJRU5ErkJggg==",
     "contentType": "image/png",
     "groupId": "0",
     "height": 20,
     "width": 20,
     "layerId": 0,
     "layerName": "Contornos Municipales 2024"
    }
   ],
   "layerId": 0,
   "layerName": "Contornos Municipales 2024",
   "serviceItemId": "17897634481f4b9999101dd82f203670"
  },
  {
   "id": 1,
   "name": "ADRH_municipios_2024",
   "parentLayerId": -1,
   "defaultVisibility": true,
   "subLayerIds": null,
   "minScale": 0,
   "maxScale": 1155580,
   "type": "Feature Layer",
   "geometryType": "esriGeometryPolygon",
   "supportsDynamicLegends": true,
   "legend": [
    {
     "label": "7.802 - 12.473",
     "imageData": "iVBORw0KGgoAAAANSUhEUgAAABQAAAAUCAYAAACNiR0NAAAACXBIWXMAAA7EAAAOxAGVKw4bAAAAM0lEQVQ4jWP5ZcX1n4GKgIWahoHAqIGUAxYqmIECRg2kHLBQwQwUMGog5YCFCmYwjHADATV5Ao4KfvjRAAAAAElFTkSuQmCC",
     "contentType": "image/png",
     "groupId": "0",
     "height": 20,
     "width": 20,
     "values": [
      12473.127
     ],
     "layerId": 1,
     "layerName": "ADRH_municipios_2024"
    },
    {
     "label": "12.473 - 13.801",
     "imageData": "iVBORw0KGgoAAAANSUhEUgAAABQAAAAUCAYAAACNiR0NAAAACXBIWXMAAA7EAAAOxAGVKw4bAAAAM0lEQVQ4jWP50831n4GKgIWahoHAqIGUAxYqmIECRg2kHLBQwQwUMGog5YCFCmYwjHADAUIvAuEcURbsAAAAAElFTkSuQmCC",
     "contentType": "image/png",
     "groupId": "0",
     "height": 20,
     "width": 20,
     "values": [
      13801.313
     ],
     "layerId": 1,
     "layerName": "ADRH_municipios_2024"
    },
    {
     "label": "13.801 - 14.805",
     "imageData": "iVBORw0KGgoAAAANSUhEUgAAABQAAAAUCAYAAACNiR0NAAAACXBIWXMAAA7EAAAOxAGVKw4bAAAANElEQVQ4jWP5dUTkPwMVAQs1DQOBUQMpByxUMAMFjBpIOWChghkoYNRAygELFcxgGOEGAgDdBAMiS5bcJAAAAABJRU5ErkJggg==",
     "contentType": "image/png",
     "groupId": "0",
     "height": 20,
     "width": 20,
     "values": [
      14804.947
     ],
     "layerId": 1,
     "layerName": "ADRH_municipios_2024"
    },
    {
     "label": "14.805 - 15.814",
     "imageData": "iVBORw0KGgoAAAANSUhEUgAAABQAAAAUCAYAAACNiR0NAAAACXBIWXMAAA7EAAAOxAGVKw4bAAAANElEQVQ4jWP5+EfuPwMVAQs1DQOBUQMpByxUMAMFjBpIOWChghkoYNRAygELFcxgGOEGAgBFUQNbWPbzoAAAAABJRU5ErkJggg==",
     "contentType": "image/png",
     "groupId": "0",
     "height": 20,
     "width": 20,
     "values": [
      15814.36
     ],
     "layerId": 1,
     "layerName": "ADRH_municipios_2024"
    },
    {
     "label": "15.814 - 16.888",
     "imageData": "iVBORw0KGgoAAAANSUhEUgAAABQAAAAUCAYAAACNiR0NAAAACXBIWXMAAA7EAAAOxAGVKw4bAAAANElEQVQ4jWNZcl78PwMVAQs1DQOBUQMpByxUMAMFjBpIOWChghkoYNRAygELFcxgGOEGAgAVjALaLvlNAAAAAABJRU5ErkJggg==",
     "contentType": "image/png",
     "groupId": "0",
     "height": 20,
     "width": 20,
     "values": [
      16887.586
     ],
     "layerId": 1,
     "layerName": "ADRH_municipios_2024"
    },
    {
     "label": "16.888 - 18.297",
     "imageData": "iVBORw0KGgoAAAANSUhEUgAAABQAAAAUCAYAAACNiR0NAAAACXBIWXMAAA7EAAAOxAGVKw4bAAAAM0lEQVQ4jWMJWcj7n4GKgIWahoHAqIGUAxYqmIECRg2kHLBQwQwUMGog5YCFCmYwjHADAbl6AlKzwJ+gAAAAAElFTkSuQmCC",
     "contentType": "image/png",
     "groupId": "0",
     "height": 20,
     "width": 20,
     "values": [
      18296.67
     ],
     "layerId": 1,
     "layerName": "ADRH_municipios_2024"
    },
    {
     "label": "18.297 - 32.612",
     "imageData": "iVBORw0KGgoAAAANSUhEUgAAABQAAAAUCAYAAACNiR0NAAAACXBIWXMAAA7EAAAOxAGVKw4bAAAAM0lEQVQ4jWNhKGD7z0BFwEJNw0Bg1EDKAQsVzEABowZSDlioYAYKGDWQcsBCBTMYRriBAEQoAcb0S+leAAAAAElFTkSuQmCC",
     "contentType": "image/png",
     "groupId": "0",
     "height": 20,
     "width": 20,
     "values": [
      32612.494
     ],
     "layerId": 1,
     "layerName": "ADRH_municipios_2024"
    }
   ],
   "layerId": 1,
   "layerName": "ADRH_municipios_2024",
   "serviceItemId": "17897634481f4b9999101dd82f203670"
  },
  {
   "id": 2,
   "name": "ADRH_distritos_2024",
   "parentLayerId": -1,
   "defaultVisibility": true,
   "subLayerIds": null,
   "minScale": 1155580,
   "maxScale": 288894,
   "type": "Feature Layer",
   "geometryType": "esriGeometryPolygon",
   "supportsDynamicLegends": true,
   "legend": [
    {
     "label": "6.596 - 12.160",
     "imageData": "iVBORw0KGgoAAAANSUhEUgAAABQAAAAUCAYAAACNiR0NAAAACXBIWXMAAA7EAAAOxAGVKw4bAAAAP0lEQVQ4jWOZM2fOfQYqAhYQETcvjyqGLUqaBDGQmoBl1ECKAQvlRqCCUQMpByxUMAMFjBo4YsJwUdIkqpkIABuiB5pbI+xHAAAAAElFTkSuQmCC",
     "contentType": "image/png",
     "groupId": "0",
     "height": 20,
     "width": 20,
     "values": [
      12160.018
     ],
     "layerId": 2,
     "layerName": "ADRH_distritos_2024"
    },
    {
     "label": "12.160 - 13.435",
     "imageData": "iVBORw0KGgoAAAANSUhEUgAAABQAAAAUCAYAAACNiR0NAAAACXBIWXMAAA7EAAAOxAGVKw4bAAAAP0lEQVQ4jWOZM2fOfQYqAhYQkfAhjyqGLRCYBDGQmoBl1ECKAQvlRqCCUQMpByxUMAMFjBo4YsJwgcAkqpkIABqkB0ZzJcU+AAAAAElFTkSuQmCC",
     "contentType": "image/png",
     "groupId": "0",
     "height": 20,
     "width": 20,
     "values": [
      13435.308
     ],
     "layerId": 2,
     "layerName": "ADRH_distritos_2024"
    },
    {
     "label": "13.435 - 14.477",
     "imageData": "iVBORw0KGgoAAAANSUhEUgAAABQAAAAUCAYAAACNiR0NAAAACXBIWXMAAA7EAAAOxAGVKw4bAAAAP0lEQVQ4jWOZM2fOfQYqAhYQEadRThXDFt3ohBhITcAyaiDFgIVyI1DBqIGUAxYqmIECRg0cMWG46EYn1UwEABzyCAcboOsbAAAAAElFTkSuQmCC",
     "contentType": "image/png",
     "groupId": "0",
     "height": 20,
     "width": 20,
     "values": [
      14477.34
     ],
     "layerId": 2,
     "layerName": "ADRH_distritos_2024"
    },
    {
     "label": "14.477 - 15.543",
     "imageData": "iVBORw0KGgoAAAANSUhEUgAAABQAAAAUCAYAAACNiR0NAAAACXBIWXMAAA7EAAAOxAGVKw4bAAAAP0lEQVQ4jWOZM2fOfQYqAhYQEZrQRBXDVi+ogxhITcAyaiDFgIVyI1DBqIGUAxYqmIECRg0cMWG4ekEd1UwEABxYB80h1QaVAAAAAElFTkSuQmCC",
     "contentType": "image/png",
     "groupId": "0",
     "height": 20,
     "width": 20,
     "values": [
      15543.302
     ],
     "layerId": 2,
     "layerName": "ADRH_distritos_2024"
    },
    {
     "label": "15.543 - 16.725",
     "imageData": "iVBORw0KGgoAAAANSUhEUgAAABQAAAAUCAYAAACNiR0NAAAACXBIWXMAAA7EAAAOxAGVKw4bAAAAP0lEQVQ4jWOZM2fOfQYqAhYQwWFcTRXDfpxthRhITcAyaiDFgIVyI1DBqIGUAxYqmIECRg0cMWH442wr1UwEAB4hCE6crRibAAAAAElFTkSuQmCC",
     "contentType": "image/png",
     "groupId": "0",
     "height": 20,
     "width": 20,
     "values": [
      16725.407
     ],
     "layerId": 2,
     "layerName": "ADRH_distritos_2024"
    },
    {
     "label": "16.725 - 18.277",
     "imageData": "iVBORw0KGgoAAAANSUhEUgAAABQAAAAUCAYAAACNiR0NAAAACXBIWXMAAA7EAAAOxAGVKw4bAAAAP0lEQVQ4jWOZM2fOfQYqAhYQsZ21kCqGef7uhxhITcAyaiDFgIVyI1DBqIGUAxYqmIECRg0cMWHo+bufaiYCABwDB9cmY27FAAAAAElFTkSuQmCC",
     "contentType": "image/png",
     "groupId": "0",
     "height": 20,
     "width": 20,
     "values": [
      18276.707
     ],
     "layerId": 2,
     "layerName": "ADRH_distritos_2024"
    },
    {
     "label": "18.277 - 38.797",
     "imageData": "iVBORw0KGgoAAAANSUhEUgAAABQAAAAUCAYAAACNiR0NAAAACXBIWXMAAA7EAAAOxAGVKw4bAAAAP0lEQVQ4jWOZM2fOfQYqAhYQkXIliyqGzdGZBjGQmoBl1ECKAQvlRqCCUQMpByxUMAMFjBo4YsJwjs40qpkIABrwB2Iv9jqFAAAAAElFTkSuQmCC",
     "contentType": "image/png",
     "groupId": "0",
     "height": 20,
     "width": 20,
     "values": [
      38796.541
     ],
     "layerId": 2,
     "layerName": "ADRH_distritos_2024"
    }
   ],
   "layerId": 2,
   "layerName": "ADRH_distritos_2024",
   "serviceItemId": "17897634481f4b9999101dd82f203670"
  },
  {
   "id": 3,
   "name": "ADRH_secciones_2024",
   "parentLayerId": -1,
   "defaultVisibility": true,
   "subLayerIds": null,
   "minScale": 288894,
   "maxScale": 0,
   "type": "Feature Layer",
   "geometryType": "esriGeometryPolygon",
   "supportsDynamicLegends": true,
   "legend": [
    {
     "label": "5.828 - 11.474",
     "imageData": "iVBORw0KGgoAAAANSUhEUgAAABQAAAAUCAYAAACNiR0NAAAACXBIWXMAAA7EAAAOxAGVKw4bAAAAP0lEQVQ4jWOZM2fOfgYqAhYQETc3lyqGLUqeDDGQmoBl1ECKAQvlRqCCUQMpByxUMAMFjBo4YsJwUfJkqpkIAFGYB3w7b52QAAAAAElFTkSuQmCC",
     "contentType": "image/png",
     "groupId": "0",
     "height": 20,
     "width": 20,
     "values": [
      11474.175
     ],
     "layerId": 3,
     "layerName": "ADRH_secciones_2024"
    },
    {
     "label": "11.474 - 12.759",
     "imageData": "iVBORw0KGgoAAAANSUhEUgAAABQAAAAUCAYAAACNiR0NAAAACXBIWXMAAA7EAAAOxAGVKw4bAAAAP0lEQVQ4jWOZM2fOfgYqAhYQkfA+lyqGLRCcDDGQmoBl1ECKAQvlRqCCUQMpByxUMAMFjBo4YsJwgeBkqpkIAFCaByhHFpEzAAAAAElFTkSuQmCC",
     "contentType": "image/png",
     "groupId": "0",
     "height": 20,
     "width": 20,
     "values": [
      12758.871
     ],
     "layerId": 3,
     "layerName": "ADRH_secciones_2024"
    },
    {
     "label": "12.759 - 14.177",
     "imageData": "iVBORw0KGgoAAAANSUhEUgAAABQAAAAUCAYAAACNiR0NAAAACXBIWXMAAA7EAAAOxAGVKw4bAAAAP0lEQVQ4jWOZM2fOfgYqAhYQEadRQRXDFt3ogBhITcAyaiDFgIVyI1DBqIGUAxYqmIECRg0cMWG46EYH1UwEAFLhB+akWI4RAAAAAElFTkSuQmCC",
     "contentType": "image/png",
     "groupId": "0",
     "height": 20,
     "width": 20,
     "values": [
      14177.133
     ],
     "layerId": 3,
     "layerName": "ADRH_secciones_2024"
    },
    {
     "label": "14.177 - 15.689",
     "imageData": "iVBORw0KGgoAAAANSUhEUgAAABQAAAAUCAYAAACNiR0NAAAACXBIWXMAAA7EAAAOxAGVKw4bAAAAP0lEQVQ4jWOZM2fOfgYqAhYQEZbQSBXDVi2ohxhITcAyaiDFgIVyI1DBqIGUAxYqmIECRg0cMWG4akE91UwEAFJHB63gXtqBAAAAAElFTkSuQmCC",
     "contentType": "image/png",
     "groupId": "0",
     "height": 20,
     "width": 20,
     "values": [
      15688.875
     ],
     "layerId": 3,
     "layerName": "ADRH_secciones_2024"
    },
    {
     "label": "15.689 - 17.388",
     "imageData": "iVBORw0KGgoAAAANSUhEUgAAABQAAAAUCAYAAACNiR0NAAAACXBIWXMAAA7EAAAOxAGVKw4bAAAAP0lEQVQ4jWOZM2fOfgYqAhYQwWFcTRXDfpxthRhITcAyaiDFgIVyI1DBqIGUAxYqmIECRg0cMWH442wr1UwEAFQSCC4lJK4qAAAAAElFTkSuQmCC",
     "contentType": "image/png",
     "groupId": "0",
     "height": 20,
     "width": 20,
     "values": [
      17388.008
     ],
     "layerId": 3,
     "layerName": "ADRH_secciones_2024"
    },
    {
     "label": "17.388 - 19.672",
     "imageData": "iVBORw0KGgoAAAANSUhEUgAAABQAAAAUCAYAAACNiR0NAAAACXBIWXMAAA7EAAAOxAGVKw4bAAAAP0lEQVQ4jWOZM2fOfgYqAhYQsYOtkCqGefzqhxhITcAyaiDFgIVyI1DBqIGUAxYqmIECRg0cMWHo8aufaiYCAFHtB7VkNU3KAAAAAElFTkSuQmCC",
     "contentType": "image/png",
     "groupId": "0",
     "height": 20,
     "width": 20,
     "values": [
      19671.837
     ],
     "layerId": 3,
     "layerName": "ADRH_secciones_2024"
    },
    {
     "label": "19.672 - 40.089",
     "imageData": "iVBORw0KGgoAAAANSUhEUgAAABQAAAAUCAYAAACNiR0NAAAACXBIWXMAAA7EAAAOxAGVKw4bAAAAP0lEQVQ4jWOZM2fOfgYqAhYQkXIlkyqGzdGZDjGQmoBl1ECKAQvlRqCCUQMpByxUMAMFjBo4YsJwjs50qpkIAFDjB0OADNpmAAAAAElFTkSuQmCC",
     "contentType": "image/png",
     "groupId": "0",
     "height": 20,
     "width": 20,
     "values": [
      40088.746
     ],
     "layerId": 3,
     "layerName": "ADRH_secciones_2024"
    }
   ],
   "layerId": 3,
   "layerName": "ADRH_secciones_2024",
   "serviceItemId": "17897634481f4b9999101dd82f203670"
  }
 ],
 "initialExtent": {
  "xmin": -2823869.78823768,
  "ymin": 3036391.815798123,
  "xmax": 751194.1133024927,
  "ymax": 5680131.067119114,
  "spatialReference": {
   "wkid": 102100,
   "latestWkid": 3857
  }
 },
 "fullExtent": {
  "xmin": -2823869.78823768,
  "ymin": 3036391.815798123,
  "xmax": 751194.1133024927,
  "ymax": 5680131.067119114,
  "spatialReference": {
   "wkid": 102100,
   "latestWkid": 3857
  }
 },
 "minScale": 0,
 "maxScale": 0,
 "exportTilesAllowed": false,
 "maxExportTilesCount": 0,
 "currentVersion": 11.3,
 "mapName": "ADRH 2024_Renta media por persona",
 "singleFusedMapCache": true,
 "type": "MapServer",
 "supportedExtensions": "",
 "capabilities": "TilesOnly,Tilemap",
 "serviceItemId": "17897634481f4b9999101dd82f203670"
}
