{
 "version": 1.0,
 "tileBundlesPath": "./tile",
 "storageInfo": {
  "packetSize": 128,
  "storageFormat": "esriMapCacheStorageModeCompactV2"
 },
 "tileImageInfo": {
  "format": "PNG",
  "compressionQuality": 0,
  "bandCount": 1,
  "lercError": 0
 },
 "tileInfo": {
  "spatialReference": {
   "wkid": 102100,
   "latestWkid": 3857
  },
  "origin": {
   "x": -2.0037508342787E7,
   "y": 2.0037508342787E7
  },
  "rows": 256,
  "cols": 256,
  "dpi": 96,
  "lods": [
   {
    "level": 0,
    "resolution": 156543.033928,
    "scale": 5.91657527591555E8
   },
   {
    "level": 1,
    "resolution": 78271.5169639999,
    "scale": 2.95828763795777E8
   },
   {
    "level": 2,
    "resolution": 39135.7584820001,
    "scale": 1.47914381897889E8
   },
   {
    "level": 3,
    "resolution": 19567.8792409999,
    "scale": 7.3957190948944E7
   },
   {
    "level": 4,
    "resolution": 9783.93962049996,
    "scale": 3.6978595474472E7
   },
   {
    "level": 5,
    "resolution": 4891.96981024998,
    "scale": 1.8489297737236E7
   },
   {
    "level": 6,
    "resolution": 2445.98490512499,
    "scale": 9244648.868618
   },
   {
    "level": 7,
    "resolution": 1222.99245256249,
    "scale": 4622324.434309
   },
   {
    "level": 8,
    "resolution": 611.49622628138,
    "scale": 2311162.217155
   },
   {
    "level": 9,
    "resolution": 305.748113140558,
    "scale": 1155581.108577
   },
   {
    "level": 10,
    "resolution": 152.874056570411,
    "scale": 577790.554289
   },
   {
    "level": 11,
    "resolution": 76.4370282850732,
    "scale": 288895.277144
   },
   {
    "level": 12,
    "resolution": 38.2185141425366,
    "scale": 144447.638572
   },
   {
    "level": 13,
    "resolution": 19.1092570712683,
    "scale": 72223.819286
   },
   {
    "level": 14,
    "resolution": 9.55462853563415,
    "scale": 36111.909643
   },
   {
    "level": 15,
    "resolution": 4.77731426794937,
    "scale": 18055.954822
   },
   {
    "level": 16,
    "resolution": 2.38865713397468,
    "scale": 9027.977411
   },
   {
    "level": 17,
    "resolution": 1.19432856685505,
    "scale": 4513.988705
   },
   {
    "level": 18,
    "resolution": 0.597164283559817,
    "scale": 2256.994353
   },
   {
    "level": 19,
    "resolution": 0.298582141647617,
    "scale": 1128.497176
   },
   {
    "level": 20,
    "resolution": 0.14929107082380833,
    "scale": 564.248588
   },
   {
    "level": 21,
    "resolution": 0.07464553541190416,
    "scale": 282.124294
   },
   {
    "level": 22,
    "resolution": 0.03732276770595208,
    "scale": 141.062147
   },
   {
    "level": 23,
    "resolution": 0.01866138385297604,
    "scale": 70.5310735
   }
  ],
  "format": "PNG",
  "compressionQuality": 0,
  "bandCount": 1,
  "lercError": 0,
  "storageFormat": "esriMapCacheStorageModeCompactV2",
  "packetSize": 128
 },
 "name": "ADRH 2024_Porcentaje otros ingresos sobre renta bruta",
 "serviceDescription": "",
 "spatialReference": {
  "wkid": 102100,
  "latestWkid": 3857,
  "xyTolerance": 0.001,
  "zTolerance": 0.001,
  "mTolerance": 0.001,
  "falseX": -20037700,
  "falseY": -30241100,
  "xyUnits": 1.4892314192838538E8,
  "falseZ": -100000,
  "zUnits": 10000,
  "falseM": -100000,
  "mUnits": 10000
 },
 "units": "esriMeters",
 "minLOD": 5,
 "maxLOD": 16,
 "resampling": true,
 "layers": [
  {
   "id": 0,
   "name": "Contornos Municipales 2024",
   "parentLayerId": -1,
   "defaultVisibility": true,
   "subLayerIds": null,
   "minScale": 1155580,
   "maxScale": 0,
   "type": "Feature Layer",
   "geometryType": "esriGeometryPolygon",
   "supportsDynamicLegends": true,
   "legend": [
    {
     "label": "Contornos Municipales 2024",
     "imageData": "iVBORw0KGgoAAAANSUhEUgAAABQAAAAUCAYAAACNiR0NAAAACXBIWXMAAA7EAAAOxAGVKw4bAAAAN0lEQVQ4je3QoREAMBACQTJD/y0Tk4jX4J4zuBUQgBCMb0/I0wdjsaAdfWJW0I8BY1Rw04dKiRdWjgNPSyeLfgAAAABJRU5ErkJggg==",
     "contentType": "image/png",
     "groupId": "0",
     "height": 20,
     "width": 20,
     "layerId": 0,
     "layerName": "Contornos Municipales 2024"
    }
   ],
   "layerId": 0,
   "layerName": "Contornos Municipales 2024",
   "serviceItemId": "d792ccfa56cd43939b9b50e8f18299a9"
  },
  {
   "id": 1,
   "name": "ADRH_municipios_2024",
   "parentLayerId": -1,
   "defaultVisibility": true,
   "subLayerIds": null,
   "minScale": 0,
   "maxScale": 1155580,
   "type": "Feature Layer",
   "geometryType": "esriGeometryPolygon",
   "supportsDynamicLegends": true,
   "legend": [
    {
     "label": "2,0% - 9,2%",
     "imageData": "iVBORw0KGgoAAAANSUhEUgAAABQAAAAUCAYAAACNiR0NAAAACXBIWXMAAA7EAAAOxAGVKw4bAAAANElEQVQ4jWP59OH7fwYqAhZqGgYCowZSDlioYAYKGDWQcsBCBTNQwKiBlAMWKpjBMMINBABawAQp+PKigwAAAABJRU5ErkJggg==",
     "contentType": "image/png",
     "groupId": "0",
     "height": 20,
     "width": 20,
     "values": [
      9.235
     ],
     "layerId": 1,
     "layerName": "ADRH_municipios_2024"
    },
    {
     "label": "9,2% - 11,1%",
     "imageData": "iVBORw0KGgoAAAANSUhEUgAAABQAAAAUCAYAAACNiR0NAAAACXBIWXMAAA7EAAAOxAGVKw4bAAAANElEQVQ4jWO5dev1fwYqAhZqGgYCowZSDlioYAYKGDWQcsBCBTNQwKiBlAMWKpjBMMINBADsAgPvOO1fgQAAAABJRU5ErkJggg==",
     "contentType": "image/png",
     "groupId": "0",
     "height": 20,
     "width": 20,
     "values": [
      11.142
     ],
     "layerId": 1,
     "layerName": "ADRH_municipios_2024"
    },
    {
     "label": "11,1% - 12,7%",
     "imageData": "iVBORw0KGgoAAAANSUhEUgAAABQAAAAUCAYAAACNiR0NAAAACXBIWXMAAA7EAAAOxAGVKw4bAAAANElEQVQ4jWPZs/fOfwYqAhZqGgYCowZSDlioYAYKGDWQcsBCBTNQwKiBlAMWKpjBMMINBAAYMAOlX7aiRgAAAABJRU5ErkJggg==",
     "contentType": "image/png",
     "groupId": "0",
     "height": 20,
     "width": 20,
     "values": [
      12.72
     ],
     "layerId": 1,
     "layerName": "ADRH_municipios_2024"
    },
    {
     "label": "12,7% - 14,6%",
     "imageData": "iVBORw0KGgoAAAANSUhEUgAAABQAAAAUCAYAAACNiR0NAAAACXBIWXMAAA7EAAAOxAGVKw4bAAAANElEQVQ4jWOZN+vEfwYqAhZqGgYCowZSDlioYAYKGDWQcsBCBTNQwKiBlAMWKpjBMMINBAD+vwNQvhQaDwAAAABJRU5ErkJggg==",
     "contentType": "image/png",
     "groupId": "0",
     "height": 20,
     "width": 20,
     "values": [
      14.604
     ],
     "layerId": 1,
     "layerName": "ADRH_municipios_2024"
    },
    {
     "label": "14,6% - 16,9%",
     "imageData": "iVBORw0KGgoAAAANSUhEUgAAABQAAAAUCAYAAACNiR0NAAAACXBIWXMAAA7EAAAOxAGVKw4bAAAAM0lEQVQ4jWNpqN31n4GKgIWahoHAqIGUAxYqmIECRg2kHLBQwQwUMGog5YCFCmYwjHADATE+AwessdRfAAAAAElFTkSuQmCC",
     "contentType": "image/png",
     "groupId": "0",
     "height": 20,
     "width": 20,
     "values": [
      16.925
     ],
     "layerId": 1,
     "layerName": "ADRH_municipios_2024"
    },
    {
     "label": "16,9% - 20,9%",
     "imageData": "iVBORw0KGgoAAAANSUhEUgAAABQAAAAUCAYAAACNiR0NAAAACXBIWXMAAA7EAAAOxAGVKw4bAAAAM0lEQVQ4jWPJClz8n4GKgIWahoHAqIGUAxYqmIECRg2kHLBQwQwUMGog5YCFCmYwjHADAf6QAq42AggpAAAAAElFTkSuQmCC",
     "contentType": "image/png",
     "groupId": "0",
     "height": 20,
     "width": 20,
     "values": [
      20.942
     ],
     "layerId": 1,
     "layerName": "ADRH_municipios_2024"
    },
    {
     "label": "20,9% - 57,5%",
     "imageData": "iVBORw0KGgoAAAANSUhEUgAAABQAAAAUCAYAAACNiR0NAAAACXBIWXMAAA7EAAAOxAGVKw4bAAAAM0lEQVQ4jWPxEmn7z0BFwEJNw0Bg1EDKAQsVzEABowZSDlioYAYKGDWQcsBCBTMYRriBAPtMAjRJMyKbAAAAAElFTkSuQmCC",
     "contentType": "image/png",
     "groupId": "0",
     "height": 20,
     "width": 20,
     "values": [
      57.545
     ],
     "layerId": 1,
     "layerName": "ADRH_municipios_2024"
    }
   ],
   "layerId": 1,
   "layerName": "ADRH_municipios_2024",
   "serviceItemId": "d792ccfa56cd43939b9b50e8f18299a9"
  },
  {
   "id": 2,
   "name": "ADRH_distritos_2024",
   "parentLayerId": -1,
   "defaultVisibility": true,
   "subLayerIds": null,
   "minScale": 1155580,
   "maxScale": 288894,
   "type": "Feature Layer",
   "geometryType": "esriGeometryPolygon",
   "supportsDynamicLegends": true,
   "legend": [
    {
     "label": "1,6% - 8,7%",
     "imageData": "iVBORw0KGgoAAAANSUhEUgAAABQAAAAUCAYAAACNiR0NAAAACXBIWXMAAA7EAAAOxAGVKw4bAAAAP0lEQVQ4jWOZM2fOfQYqAhYQERYSTRXDVq1ZCjGQmoBl1ECKAQvlRqCCUQMpByxUMAMFjBo4YsJw1ZqlVDMRABzGB/8WkqZ5AAAAAElFTkSuQmCC",
     "contentType": "image/png",
     "groupId": "0",
     "height": 20,
     "width": 20,
     "values": [
      8.717
     ],
     "layerId": 2,
     "layerName": "ADRH_distritos_2024"
    },
    {
     "label": "8,7% - 10,5%",
     "imageData": "iVBORw0KGgoAAAANSUhEUgAAABQAAAAUCAYAAACNiR0NAAAACXBIWXMAAA7EAAAOxAGVKw4bAAAAP0lEQVQ4jWOZM2fOfQYqAhYQYWcXQBXDDh3aADGQmoBl1ECKAQvlRqCCUQMpByxUMAMFjBo4YsLw0KENVDMRAB1+CDgdHvnqAAAAAElFTkSuQmCC",
     "contentType": "image/png",
     "groupId": "0",
     "height": 20,
     "width": 20,
     "values": [
      10.545
     ],
     "layerId": 2,
     "layerName": "ADRH_distritos_2024"
    },
    {
     "label": "10,5% - 12,2%",
     "imageData": "iVBORw0KGgoAAAANSUhEUgAAABQAAAAUCAYAAACNiR0NAAAACXBIWXMAAA7EAAAOxAGVKw4bAAAAP0lEQVQ4jWOZM2fOfQYqAhYQoaDoQBXDHtw/ADGQmoBl1ECKAQvlRqCCUQMpByxUMAMFjBo4YsLwwf0DVDMRAB5tCINz2c1UAAAAAElFTkSuQmCC",
     "contentType": "image/png",
     "groupId": "0",
     "height": 20,
     "width": 20,
     "values": [
      12.212
     ],
     "layerId": 2,
     "layerName": "ADRH_distritos_2024"
    },
    {
     "label": "12,2% - 14,0%",
     "imageData": "iVBORw0KGgoAAAANSUhEUgAAABQAAAAUCAYAAACNiR0NAAAACXBIWXMAAA7EAAAOxAGVKw4bAAAAP0lEQVQ4jWOZM2fOfQYqAhYQwfRPhyqG/WO6AjGQmoBl1ECKAQvlRqCCUQMpByxUMAMFjBo4YsLwH9MVqpkIABx2B9jmcoFmAAAAAElFTkSuQmCC",
     "contentType": "image/png",
     "groupId": "0",
     "height": 20,
     "width": 20,
     "values": [
      14.022
     ],
     "layerId": 2,
     "layerName": "ADRH_distritos_2024"
    },
    {
     "label": "14,0% - 16,4%",
     "imageData": "iVBORw0KGgoAAAANSUhEUgAAABQAAAAUCAYAAACNiR0NAAAACXBIWXMAAA7EAAAOxAGVKw4bAAAAP0lEQVQ4jWOZM2fOfQYqAhYQ8eShHFUMk5F/BDGQmoBl1ECKAQvlRqCCUQMpByxUMAMFjBo4YsJQRv4R1UwEABlhByHfDQ2SAAAAAElFTkSuQmCC",
     "contentType": "image/png",
     "groupId": "0",
     "height": 20,
     "width": 20,
     "values": [
      16.356
     ],
     "layerId": 2,
     "layerName": "ADRH_distritos_2024"
    },
    {
     "label": "16,4% - 20,3%",
     "imageData": "iVBORw0KGgoAAAANSUhEUgAAABQAAAAUCAYAAACNiR0NAAAACXBIWXMAAA7EAAAOxAGVKw4bAAAAP0lEQVQ4jWOZM2fOfQYqAhYQcW4rB1UMM/L+ATGQmoBl1ECKAQvlRqCCUQMpByxUMAMFjBo4YsLQyPsH1UwEABppB3k3jt05AAAAAElFTkSuQmCC",
     "contentType": "image/png",
     "groupId": "0",
     "height": 20,
     "width": 20,
     "values": [
      20.261
     ],
     "layerId": 2,
     "layerName": "ADRH_distritos_2024"
    },
    {
     "label": "20,3% - 57,5%",
     "imageData": "iVBORw0KGgoAAAANSUhEUgAAABQAAAAUCAYAAACNiR0NAAAACXBIWXMAAA7EAAAOxAGVKw4bAAAAPklEQVQ4jWOZM2fOfQYqAhYQsa78FVUMC+oUgxhITcAyaiDFgIVyI1DBqIGUAxYqmIECRg0cMWEY1ClGNRMBGd8G9T2X8PAAAAAASUVORK5CYII=",
     "contentType": "image/png",
     "groupId": "0",
     "height": 20,
     "width": 20,
     "values": [
      57.545
     ],
     "layerId": 2,
     "layerName": "ADRH_distritos_2024"
    }
   ],
   "layerId": 2,
   "layerName": "ADRH_distritos_2024",
   "serviceItemId": "d792ccfa56cd43939b9b50e8f18299a9"
  },
  {
   "id": 3,
   "name": "ADRH_secciones_2024",
   "parentLayerId": -1,
   "defaultVisibility": true,
   "subLayerIds": null,
   "minScale": 288894,
   "maxScale": 0,
   "type": "Feature Layer",
   "geometryType": "esriGeometryPolygon",
   "supportsDynamicLegends": true,
   "legend": [
    {
     "label": "0,0% - 6,1%",
     "imageData": "iVBORw0KGgoAAAANSUhEUgAAABQAAAAUCAYAAACNiR0NAAAACXBIWXMAAA7EAAAOxAGVKw4bAAAAP0lEQVQ4jWOZM2fOfgYqAhYQERYSTRXDVq1ZCjGQmoBl1ECKAQvlRqCCUQMpByxUMAMFjBo4YsJw1ZqlVDMRAFK3B98lu5+hAAAAAElFTkSuQmCC",
     "contentType": "image/png",
     "groupId": "0",
     "height": 20,
     "width": 20,
     "values": [
      6.088
     ],
     "layerId": 3,
     "layerName": "ADRH_secciones_2024"
    },
    {
     "label": "6,1% - 8,0%",
     "imageData": "iVBORw0KGgoAAAANSUhEUgAAABQAAAAUCAYAAACNiR0NAAAACXBIWXMAAA7EAAAOxAGVKw4bAAAAP0lEQVQ4jWOZM2fOfgYqAhYQYWfnTxXDDh3aCDGQmoBl1ECKAQvlRqCCUQMpByxUMAMFjBo4YsLw0KGNVDMRAFNxCBl3xQ5wAAAAAElFTkSuQmCC",
     "contentType": "image/png",
     "groupId": "0",
     "height": 20,
     "width": 20,
     "values": [
      7.996
     ],
     "layerId": 3,
     "layerName": "ADRH_secciones_2024"
    },
    {
     "label": "8,0% - 9,9%",
     "imageData": "iVBORw0KGgoAAAANSUhEUgAAABQAAAAUCAYAAACNiR0NAAAACXBIWXMAAA7EAAAOxAGVKw4bAAAAP0lEQVQ4jWOZM2fOfgYqAhYQoaDkQBXDHtw7ADGQmoBl1ECKAQvlRqCCUQMpByxUMAMFjBo4YsLwwb0DVDMRAFRbCGLh0seyAAAAAElFTkSuQmCC",
     "contentType": "image/png",
     "groupId": "0",
     "height": 20,
     "width": 20,
     "values": [
      9.917
     ],
     "layerId": 3,
     "layerName": "ADRH_secciones_2024"
    },
    {
     "label": "9,9% - 12,0%",
     "imageData": "iVBORw0KGgoAAAANSUhEUgAAABQAAAAUCAYAAACNiR0NAAAACXBIWXMAAA7EAAAOxAGVKw4bAAAAP0lEQVQ4jWOZM2fOfgYqAhYQwfRPhyqG/WO6AjGQmoBl1ECKAQvlRqCCUQMpByxUMAMFjBo4YsLwH9MVqpkIAFJnB7jrUDIOAAAAAElFTkSuQmCC",
     "contentType": "image/png",
     "groupId": "0",
     "height": 20,
     "width": 20,
     "values": [
      11.965
     ],
     "layerId": 3,
     "layerName": "ADRH_secciones_2024"
    },
    {
     "label": "12,0% - 14,6%",
     "imageData": "iVBORw0KGgoAAAANSUhEUgAAABQAAAAUCAYAAACNiR0NAAAACXBIWXMAAA7EAAAOxAGVKw4bAAAAP0lEQVQ4jWOZM2fOfgYqAhYQ8eShHFUMk5F/BDGQmoBl1ECKAQvlRqCCUQMpByxUMAMFjBo4YsJQRv4R1UwEAE9SBwEKlxKUAAAAAElFTkSuQmCC",
     "contentType": "image/png",
     "groupId": "0",
     "height": 20,
     "width": 20,
     "values": [
      14.633
     ],
     "layerId": 3,
     "layerName": "ADRH_secciones_2024"
    },
    {
     "label": "14,6% - 19,1%",
     "imageData": "iVBORw0KGgoAAAANSUhEUgAAABQAAAAUCAYAAACNiR0NAAAACXBIWXMAAA7EAAAOxAGVKw4bAAAAP0lEQVQ4jWOZM2fOfgYqAhYQcXYrO1UMM/b+CTGQmoBl1ECKAQvlRqCCUQMpByxUMAMFjBo4YsLQ2Psn1UwEAFBgB1sg4RqYAAAAAElFTkSuQmCC",
     "contentType": "image/png",
     "groupId": "0",
     "height": 20,
     "width": 20,
     "values": [
      19.072
     ],
     "layerId": 3,
     "layerName": "ADRH_secciones_2024"
    },
    {
     "label": "19,1% - 60,4%",
     "imageData": "iVBORw0KGgoAAAANSUhEUgAAABQAAAAUCAYAAACNiR0NAAAACXBIWXMAAA7EAAAOxAGVKw4bAAAAPklEQVQ4jWOZM2fOfgYqAhYQsbbiFVUMC+4QgxhITcAyaiDFgIVyI1DBqIGUAxYqmIECRg0cMWEY3CFGNRMBT9EG1fipr64AAAAASUVORK5CYII=",
     "contentType": "image/png",
     "groupId": "0",
     "height": 20,
     "width": 20,
     "values": [
      60.422
     ],
     "layerId": 3,
     "layerName": "ADRH_secciones_2024"
    }
   ],
   "layerId": 3,
   "layerName": "ADRH_secciones_2024",
   "serviceItemId": "d792ccfa56cd43939b9b50e8f18299a9"
  }
 ],
 "initialExtent": {
  "xmin": -2823869.78823768,
  "ymin": 3036391.815798123,
  "xmax": 751194.1133024927,
  "ymax": 5680131.067119114,
  "spatialReference": {
   "wkid": 102100,
   "latestWkid": 3857
  }
 },
 "fullExtent": {
  "xmin": -2823869.78823768,
  "ymin": 3036391.815798123,
  "xmax": 751194.1133024927,
  "ymax": 5680131.067119114,
  "spatialReference": {
   "wkid": 102100,
   "latestWkid": 3857
  }
 },
 "minScale": 0,
 "maxScale": 0,
 "exportTilesAllowed": false,
 "maxExportTilesCount": 0,
 "currentVersion": 11.3,
 "mapName": "ADRH 2024_Porcentaje otros ingresos sobre renta bruta",
 "singleFusedMapCache": true,
 "type": "MapServer",
 "supportedExtensions": "",
 "capabilities": "TilesOnly,Tilemap",
 "serviceItemId": "d792ccfa56cd43939b9b50e8f18299a9"
}
