{
 "version": 1.0,
 "tileBundlesPath": "./tile",
 "storageInfo": {
  "packetSize": 128,
  "storageFormat": "esriMapCacheStorageModeCompactV2"
 },
 "tileImageInfo": {
  "format": "PNG",
  "compressionQuality": 0,
  "bandCount": 1,
  "lercError": 0
 },
 "tileInfo": {
  "spatialReference": {
   "wkid": 102100,
   "latestWkid": 3857
  },
  "origin": {
   "x": -2.0037508342787E7,
   "y": 2.0037508342787E7
  },
  "rows": 256,
  "cols": 256,
  "dpi": 96,
  "lods": [
   {
    "level": 0,
    "resolution": 156543.033928,
    "scale": 5.91657527591555E8
   },
   {
    "level": 1,
    "resolution": 78271.5169639999,
    "scale": 2.95828763795777E8
   },
   {
    "level": 2,
    "resolution": 39135.7584820001,
    "scale": 1.47914381897889E8
   },
   {
    "level": 3,
    "resolution": 19567.8792409999,
    "scale": 7.3957190948944E7
   },
   {
    "level": 4,
    "resolution": 9783.93962049996,
    "scale": 3.6978595474472E7
   },
   {
    "level": 5,
    "resolution": 4891.96981024998,
    "scale": 1.8489297737236E7
   },
   {
    "level": 6,
    "resolution": 2445.98490512499,
    "scale": 9244648.868618
   },
   {
    "level": 7,
    "resolution": 1222.99245256249,
    "scale": 4622324.434309
   },
   {
    "level": 8,
    "resolution": 611.49622628138,
    "scale": 2311162.217155
   },
   {
    "level": 9,
    "resolution": 305.748113140558,
    "scale": 1155581.108577
   },
   {
    "level": 10,
    "resolution": 152.874056570411,
    "scale": 577790.554289
   },
   {
    "level": 11,
    "resolution": 76.4370282850732,
    "scale": 288895.277144
   },
   {
    "level": 12,
    "resolution": 38.2185141425366,
    "scale": 144447.638572
   },
   {
    "level": 13,
    "resolution": 19.1092570712683,
    "scale": 72223.819286
   },
   {
    "level": 14,
    "resolution": 9.55462853563415,
    "scale": 36111.909643
   },
   {
    "level": 15,
    "resolution": 4.77731426794937,
    "scale": 18055.954822
   },
   {
    "level": 16,
    "resolution": 2.38865713397468,
    "scale": 9027.977411
   },
   {
    "level": 17,
    "resolution": 1.19432856685505,
    "scale": 4513.988705
   },
   {
    "level": 18,
    "resolution": 0.597164283559817,
    "scale": 2256.994353
   },
   {
    "level": 19,
    "resolution": 0.298582141647617,
    "scale": 1128.497176
   },
   {
    "level": 20,
    "resolution": 0.14929107082380833,
    "scale": 564.248588
   },
   {
    "level": 21,
    "resolution": 0.07464553541190416,
    "scale": 282.124294
   },
   {
    "level": 22,
    "resolution": 0.03732276770595208,
    "scale": 141.062147
   },
   {
    "level": 23,
    "resolution": 0.01866138385297604,
    "scale": 70.5310735
   }
  ],
  "format": "PNG",
  "compressionQuality": 0,
  "bandCount": 1,
  "lercError": 0,
  "storageFormat": "esriMapCacheStorageModeCompactV2",
  "packetSize": 128
 },
 "name": "Plazas en viviendas turísticas (2021M08)",
 "serviceDescription": "",
 "spatialReference": {
  "wkid": 102100,
  "latestWkid": 3857,
  "xyTolerance": 0.001,
  "zTolerance": 0.001,
  "mTolerance": 0.001,
  "falseX": -20037700,
  "falseY": -30241100,
  "xyUnits": 10000,
  "falseZ": -100000,
  "zUnits": 10000,
  "falseM": -100000,
  "mUnits": 10000
 },
 "units": "esriMeters",
 "minLOD": 0,
 "maxLOD": 13,
 "resampling": true,
 "layers": [
  {
   "id": 0,
   "name": "Contornos municipios",
   "parentLayerId": -1,
   "defaultVisibility": true,
   "subLayerIds": null,
   "minScale": 1155590,
   "maxScale": 0,
   "type": "Feature Layer",
   "geometryType": "esriGeometryPolygon",
   "supportsDynamicLegends": true,
   "legend": [
    {
     "label": "",
     "imageData": "iVBORw0KGgoAAAANSUhEUgAAABQAAAAUCAYAAACNiR0NAAAACXBIWXMAAA7EAAAOxAGVKw4bAAAALUlEQVQ4jWNhYGD4z0BFwAKlGalk3n8WwmpIA6MGjho4auCogaMGohpItWoAAFaOA08xGWr1AAAAAElFTkSuQmCC",
     "contentType": "image/png",
     "groupId": "0",
     "height": 20,
     "width": 20,
     "layerId": 0,
     "layerName": "Contornos municipios"
    }
   ],
   "layerId": 0,
   "layerName": "Contornos municipios",
   "serviceItemId": "f252cac78594481f83408fd5cc1b914d"
  },
  {
   "id": 1,
   "name": "Nivel: Municipios",
   "parentLayerId": -1,
   "defaultVisibility": true,
   "subLayerIds": null,
   "minScale": 0,
   "maxScale": 1155580,
   "type": "Feature Layer",
   "geometryType": "esriGeometryPolygon",
   "supportsDynamicLegends": true,
   "legend": [
    {
     "label": "0",
     "imageData": "iVBORw0KGgoAAAANSUhEUgAAABQAAAAUCAYAAACNiR0NAAAACXBIWXMAAA7EAAAOxAGVKw4bAAAAIklEQVQ4jWMRKZL4z0BFwEJNw0YNHDVw1MBRA0cNHEoGAgBBCQHuUi3FaAAAAABJRU5ErkJggg==",
     "contentType": "image/png",
     "groupId": "0",
     "height": 20,
     "width": 20,
     "values": [
      0
     ],
     "layerId": 1,
     "layerName": "Nivel: Municipios"
    },
    {
     "label": "De 0 a 8",
     "imageData": "iVBORw0KGgoAAAANSUhEUgAAABQAAAAUCAYAAACNiR0NAAAACXBIWXMAAA7EAAAOxAGVKw4bAAAAIklEQVQ4jWMJXCj6n4GKgIWaho0aOGrgqIGjBo4aOJQMBADZCQJXJvy/hQAAAABJRU5ErkJggg==",
     "contentType": "image/png",
     "groupId": "0",
     "height": 20,
     "width": 20,
     "values": [
      8
     ],
     "layerId": 1,
     "layerName": "Nivel: Municipios"
    },
    {
     "label": "De 9 a 16",
     "imageData": "iVBORw0KGgoAAAANSUhEUgAAABQAAAAUCAYAAACNiR0NAAAACXBIWXMAAA7EAAAOxAGVKw4bAAAAIklEQVQ4jWNZcl7pPwMVAQs1DRs1cNTAUQNHDRw1cCgZCABbBwLltv4xygAAAABJRU5ErkJggg==",
     "contentType": "image/png",
     "groupId": "0",
     "height": 20,
     "width": 20,
     "values": [
      16
     ],
     "layerId": 1,
     "layerName": "Nivel: Municipios"
    },
    {
     "label": "De 17 a 30",
     "imageData": "iVBORw0KGgoAAAANSUhEUgAAABQAAAAUCAYAAACNiR0NAAAACXBIWXMAAA7EAAAOxAGVKw4bAAAAIklEQVQ4jWP59E/rPwMVAQs1DRs1cNTAUQNHDRw1cCgZCACkFANqVV7gvgAAAABJRU5ErkJggg==",
     "contentType": "image/png",
     "groupId": "0",
     "height": 20,
     "width": 20,
     "values": [
      30
     ],
     "layerId": 1,
     "layerName": "Nivel: Municipios"
    },
    {
     "label": "De 31 a 60",
     "imageData": "iVBORw0KGgoAAAANSUhEUgAAABQAAAAUCAYAAACNiR0NAAAACXBIWXMAAA7EAAAOxAGVKw4bAAAAIklEQVQ4jWP5e0LhPwMVAQs1DRs1cNTAUQNHDRw1cCgZCABVIAM1m5SnewAAAABJRU5ErkJggg==",
     "contentType": "image/png",
     "groupId": "0",
     "height": 20,
     "width": 20,
     "values": [
      60
     ],
     "layerId": 1,
     "layerName": "Nivel: Municipios"
    },
    {
     "label": "De 61 a 158",
     "imageData": "iVBORw0KGgoAAAANSUhEUgAAABQAAAAUCAYAAACNiR0NAAAACXBIWXMAAA7EAAAOxAGVKw4bAAAAIklEQVQ4jWP538vzn4GKgIWaho0aOGrgqIGjBo4aOJQMBABubgLo2caKCAAAAABJRU5ErkJggg==",
     "contentType": "image/png",
     "groupId": "0",
     "height": 20,
     "width": 20,
     "values": [
      158
     ],
     "layerId": 1,
     "layerName": "Nivel: Municipios"
    },
    {
     "label": "Más de 158",
     "imageData": "iVBORw0KGgoAAAANSUhEUgAAABQAAAAUCAYAAACNiR0NAAAACXBIWXMAAA7EAAAOxAGVKw4bAAAAIklEQVQ4jWP5ZyP5n4GKgIWaho0aOGrgqIGjBo4aOJQMBAC6KAKjkAPzewAAAABJRU5ErkJggg==",
     "contentType": "image/png",
     "groupId": "0",
     "height": 20,
     "width": 20,
     "values": [
      49186
     ],
     "layerId": 1,
     "layerName": "Nivel: Municipios"
    }
   ],
   "layerId": 1,
   "layerName": "Nivel: Municipios",
   "serviceItemId": "f252cac78594481f83408fd5cc1b914d"
  },
  {
   "id": 2,
   "name": "Nivel: Distritos",
   "parentLayerId": -1,
   "defaultVisibility": true,
   "subLayerIds": null,
   "minScale": 1155580,
   "maxScale": 288894,
   "type": "Feature Layer",
   "geometryType": "esriGeometryPolygon",
   "supportsDynamicLegends": true,
   "legend": [
    {
     "label": "0",
     "imageData": "iVBORw0KGgoAAAANSUhEUgAAABQAAAAUCAYAAACNiR0NAAAACXBIWXMAAA7EAAAOxAGVKw4bAAAANUlEQVQ4jWPJy8u7x0BFwMLAwMCwjGUVVQyL+hMGMZCaYNTAUQNHDRw1cNRAJAOj/oRRzUAArRgHJeq65G8AAAAASUVORK5CYII=",
     "contentType": "image/png",
     "groupId": "0",
     "height": 20,
     "width": 20,
     "values": [
      0
     ],
     "layerId": 2,
     "layerName": "Nivel: Distritos"
    },
    {
     "label": "De 1 a 8",
     "imageData": "iVBORw0KGgoAAAANSUhEUgAAABQAAAAUCAYAAACNiR0NAAAACXBIWXMAAA7EAAAOxAGVKw4bAAAANUlEQVQ4jWPJy8u7x0BFwMLAwMDwxHg5VQyTORsJMZCaYNTAUQNHDRw1cNRAJANlzkZSzUAAq5kGu1XOzksAAAAASUVORK5CYII=",
     "contentType": "image/png",
     "groupId": "0",
     "height": 20,
     "width": 20,
     "values": [
      8
     ],
     "layerId": 2,
     "layerName": "Nivel: Distritos"
    },
    {
     "label": "De 9 a 17",
     "imageData": "iVBORw0KGgoAAAANSUhEUgAAABQAAAAUCAYAAACNiR0NAAAACXBIWXMAAA7EAAAOxAGVKw4bAAAANUlEQVQ4jWPJy8u7x0BFwMLAwMBglriFKoadmu8DMZCaYNTAUQNHDRw1cNRAJANPzfehmoEAra0HLnCN3AYAAAAASUVORK5CYII=",
     "contentType": "image/png",
     "groupId": "0",
     "height": 20,
     "width": 20,
     "values": [
      17
     ],
     "layerId": 2,
     "layerName": "Nivel: Distritos"
    },
    {
     "label": "De 18 a 32",
     "imageData": "iVBORw0KGgoAAAANSUhEUgAAABQAAAAUCAYAAACNiR0NAAAACXBIWXMAAA7EAAAOxAGVKw4bAAAANUlEQVQ4jWPJy8u7x0BFwMLAwMDQMmEvVQyrKXCGGEhNMGrgqIGjBo4aOGogkoE1Bc5UMxAAq9YGqKsMdgEAAAAASUVORK5CYII=",
     "contentType": "image/png",
     "groupId": "0",
     "height": 20,
     "width": 20,
     "values": [
      32
     ],
     "layerId": 2,
     "layerName": "Nivel: Distritos"
    },
    {
     "label": "De 33 a 64",
     "imageData": "iVBORw0KGgoAAAANSUhEUgAAABQAAAAUCAYAAACNiR0NAAAACXBIWXMAAA7EAAAOxAGVKw4bAAAANUlEQVQ4jWPJy8u7x0BFwMLAwMDQH7WJKoYVLvODGEhNMGrgqIGjBo4aOGogkoGFy/yoZiAArGIG3hwhRqcAAAAASUVORK5CYII=",
     "contentType": "image/png",
     "groupId": "0",
     "height": 20,
     "width": 20,
     "values": [
      64
     ],
     "layerId": 2,
     "layerName": "Nivel: Distritos"
    },
    {
     "label": "De 65 a 180",
     "imageData": "iVBORw0KGgoAAAANSUhEUgAAABQAAAAUCAYAAACNiR0NAAAACXBIWXMAAA7EAAAOxAGVKw4bAAAANUlEQVQ4jWPJy8u7x0BFwMLAwMAwUX4uVQzLf5gMMZCaYNTAUQNHDRw1cNRAJAPzHyZTzUAArTUHLJ1Q4I4AAAAASUVORK5CYII=",
     "contentType": "image/png",
     "groupId": "0",
     "height": 20,
     "width": 20,
     "values": [
      180
     ],
     "layerId": 2,
     "layerName": "Nivel: Distritos"
    },
    {
     "label": "Más de 180",
     "imageData": "iVBORw0KGgoAAAANSUhEUgAAABQAAAAUCAYAAACNiR0NAAAACXBIWXMAAA7EAAAOxAGVKw4bAAAANUlEQVQ4jWPJy8u7x0BFwMLAwMAw4dxqqhhWYBQKMZCaYNTAUQNHDRw1cNRAJAMLjEKpZiAAqxAGcGRo7jkAAAAASUVORK5CYII=",
     "contentType": "image/png",
     "groupId": "0",
     "height": 20,
     "width": 20,
     "values": [
      23986
     ],
     "layerId": 2,
     "layerName": "Nivel: Distritos"
    }
   ],
   "layerId": 2,
   "layerName": "Nivel: Distritos"
  },
  {
   "id": 3,
   "name": "Nivel: Secciones censales",
   "parentLayerId": -1,
   "defaultVisibility": true,
   "subLayerIds": null,
   "minScale": 288894,
   "maxScale": 0,
   "type": "Feature Layer",
   "geometryType": "esriGeometryPolygon",
   "supportsDynamicLegends": true,
   "legend": [
    {
     "label": "0",
     "imageData": "iVBORw0KGgoAAAANSUhEUgAAABQAAAAUCAYAAACNiR0NAAAACXBIWXMAAA7EAAAOxAGVKw4bAAAANUlEQVQ4jWPJzc3dz0BFwMLAwMCwnGU1VQyL/BMKMZCaYNTAUQNHDRw1cNRAJAMj/4RSzUAA1l0HARLSr68AAAAASUVORK5CYII=",
     "contentType": "image/png",
     "groupId": "0",
     "height": 20,
     "width": 20,
     "values": [
      0
     ],
     "layerId": 3,
     "layerName": "Nivel: Secciones censales"
    },
    {
     "label": "De 1 a 4",
     "imageData": "iVBORw0KGgoAAAANSUhEUgAAABQAAAAUCAYAAACNiR0NAAAACXBIWXMAAA7EAAAOxAGVKw4bAAAANUlEQVQ4jWPJzc3dz0BFwMLAwMDwxHQFVQyTOR0BMZCaYNTAUQNHDRw1cNRAJANlTkdQzUAA1NwGliF6sOoAAAAASUVORK5CYII=",
     "contentType": "image/png",
     "groupId": "0",
     "height": 20,
     "width": 20,
     "values": [
      4
     ],
     "layerId": 3,
     "layerName": "Nivel: Secciones censales"
    },
    {
     "label": "De 5 a 8",
     "imageData": "iVBORw0KGgoAAAANSUhEUgAAABQAAAAUCAYAAACNiR0NAAAACXBIWXMAAA7EAAAOxAGVKw4bAAAANUlEQVQ4jWPJzc3dz0BFwMLAwMBgnrSFKoadnOcDMZCaYNTAUQNHDRw1cNRAJANPzvOhmoEA1vEHCpM/leoAAAAASUVORK5CYII=",
     "contentType": "image/png",
     "groupId": "0",
     "height": 20,
     "width": 20,
     "values": [
      8
     ],
     "layerId": 3,
     "layerName": "Nivel: Secciones censales"
    },
    {
     "label": "De 9 a 15",
     "imageData": "iVBORw0KGgoAAAANSUhEUgAAABQAAAAUCAYAAACNiR0NAAAACXBIWXMAAA7EAAAOxAGVKw4bAAAANUlEQVQ4jWPJzc3dz0BFwMLAwMDQOnEPVQyrzneBGEhNMGrgqIGjBo4aOGogkoHV+S5UMxAA1RwGhQ++F2wAAAAASUVORK5CYII=",
     "contentType": "image/png",
     "groupId": "0",
     "height": 20,
     "width": 20,
     "values": [
      15
     ],
     "layerId": 3,
     "layerName": "Nivel: Secciones censales"
    },
    {
     "label": "De 16 a 29",
     "imageData": "iVBORw0KGgoAAAANSUhEUgAAABQAAAAUCAYAAACNiR0NAAAACXBIWXMAAA7EAAAOxAGVKw4bAAAANUlEQVQ4jWPJzc3dz0BFwMLAwMAwMXozVQzLX+oLMZCaYNTAUQNHDRw1cNRAJAPzl/pSzUAA1aAGuL5+RRgAAAAASUVORK5CYII=",
     "contentType": "image/png",
     "groupId": "0",
     "height": 20,
     "width": 20,
     "values": [
      29
     ],
     "layerId": 3,
     "layerName": "Nivel: Secciones censales"
    },
    {
     "label": "De 30 a 70",
     "imageData": "iVBORw0KGgoAAAANSUhEUgAAABQAAAAUCAYAAACNiR0NAAAACXBIWXMAAA7EAAAOxAGVKw4bAAAANUlEQVQ4jWPJzc3dz0BFwMLAwMAwSXE+VQzLu58IMZCaYNTAUQNHDRw1cNRAJAPz7idSzUAA1nIHBR1frj8AAAAASUVORK5CYII=",
     "contentType": "image/png",
     "groupId": "0",
     "height": 20,
     "width": 20,
     "values": [
      70
     ],
     "layerId": 3,
     "layerName": "Nivel: Secciones censales"
    },
    {
     "label": "Más de 70",
     "imageData": "iVBORw0KGgoAAAANSUhEUgAAABQAAAAUCAYAAACNiR0NAAAACXBIWXMAAA7EAAAOxAGVKw4bAAAANUlEQVQ4jWPJzc3dz0BFwMLAwMAw8fwaqhiWbxgCMZCaYNTAUQNHDRw1cNRAJAPzDUOoZiAA1FIGS6bjg80AAAAASUVORK5CYII=",
     "contentType": "image/png",
     "groupId": "0",
     "height": 20,
     "width": 20,
     "values": [
      10334
     ],
     "layerId": 3,
     "layerName": "Nivel: Secciones censales"
    }
   ],
   "layerId": 3,
   "layerName": "Nivel: Secciones censales"
  }
 ],
 "initialExtent": {
  "xmin": -2366490.5611557825,
  "ymin": 3182989.5407879646,
  "xmax": 530911.8282695931,
  "ymax": 5447856.898625868,
  "spatialReference": {
   "wkid": 102100,
   "latestWkid": 3857,
   "xyTolerance": 0.001,
   "zTolerance": 0.001,
   "mTolerance": 0.001,
   "falseX": -20037700,
   "falseY": -30241100,
   "xyUnits": 10000,
   "falseZ": -100000,
   "zUnits": 10000,
   "falseM": -100000,
   "mUnits": 10000
  }
 },
 "fullExtent": {
  "xmin": -2366490.5611557825,
  "ymin": 3182989.5407879646,
  "xmax": 530911.8282695931,
  "ymax": 5447856.898625868,
  "spatialReference": {
   "wkid": 102100,
   "latestWkid": 3857,
   "xyTolerance": 0.001,
   "zTolerance": 0.001,
   "mTolerance": 0.001,
   "falseX": -20037700,
   "falseY": -30241100,
   "xyUnits": 10000,
   "falseZ": -100000,
   "zUnits": 10000,
   "falseM": -100000,
   "mUnits": 10000
  }
 },
 "minScale": 0,
 "maxScale": 0,
 "exportTilesAllowed": false,
 "maxExportTilesCount": 0,
 "currentVersion": 11.3,
 "mapName": "Plazas en viviendas turísticas (2021M08)",
 "singleFusedMapCache": true,
 "type": "MapServer",
 "supportedExtensions": "",
 "capabilities": "TilesOnly,Tilemap",
 "serviceItemId": "f252cac78594481f83408fd5cc1b914d"
}
