{
 "version": 1.0,
 "tileBundlesPath": "./tile",
 "storageInfo": {
  "packetSize": 128,
  "storageFormat": "esriMapCacheStorageModeCompactV2"
 },
 "tileImageInfo": {
  "format": "PNG",
  "compressionQuality": 0,
  "bandCount": 1,
  "lercError": 0
 },
 "tileInfo": {
  "spatialReference": {
   "wkid": 102100,
   "latestWkid": 3857
  },
  "origin": {
   "x": -2.0037508342787E7,
   "y": 2.0037508342787E7
  },
  "rows": 256,
  "cols": 256,
  "dpi": 96,
  "lods": [
   {
    "level": 0,
    "resolution": 156543.033928,
    "scale": 5.91657527591555E8
   },
   {
    "level": 1,
    "resolution": 78271.5169639999,
    "scale": 2.95828763795777E8
   },
   {
    "level": 2,
    "resolution": 39135.7584820001,
    "scale": 1.47914381897889E8
   },
   {
    "level": 3,
    "resolution": 19567.8792409999,
    "scale": 7.3957190948944E7
   },
   {
    "level": 4,
    "resolution": 9783.93962049996,
    "scale": 3.6978595474472E7
   },
   {
    "level": 5,
    "resolution": 4891.96981024998,
    "scale": 1.8489297737236E7
   },
   {
    "level": 6,
    "resolution": 2445.98490512499,
    "scale": 9244648.868618
   },
   {
    "level": 7,
    "resolution": 1222.99245256249,
    "scale": 4622324.434309
   },
   {
    "level": 8,
    "resolution": 611.49622628138,
    "scale": 2311162.217155
   },
   {
    "level": 9,
    "resolution": 305.748113140558,
    "scale": 1155581.108577
   },
   {
    "level": 10,
    "resolution": 152.874056570411,
    "scale": 577790.554289
   },
   {
    "level": 11,
    "resolution": 76.4370282850732,
    "scale": 288895.277144
   },
   {
    "level": 12,
    "resolution": 38.2185141425366,
    "scale": 144447.638572
   },
   {
    "level": 13,
    "resolution": 19.1092570712683,
    "scale": 72223.819286
   },
   {
    "level": 14,
    "resolution": 9.55462853563415,
    "scale": 36111.909643
   },
   {
    "level": 15,
    "resolution": 4.77731426794937,
    "scale": 18055.954822
   },
   {
    "level": 16,
    "resolution": 2.38865713397468,
    "scale": 9027.977411
   },
   {
    "level": 17,
    "resolution": 1.19432856685505,
    "scale": 4513.988705
   },
   {
    "level": 18,
    "resolution": 0.597164283559817,
    "scale": 2256.994353
   },
   {
    "level": 19,
    "resolution": 0.298582141647617,
    "scale": 1128.497176
   },
   {
    "level": 20,
    "resolution": 0.14929107082380833,
    "scale": 564.248588
   },
   {
    "level": 21,
    "resolution": 0.07464553541190416,
    "scale": 282.124294
   },
   {
    "level": 22,
    "resolution": 0.03732276770595208,
    "scale": 141.062147
   },
   {
    "level": 23,
    "resolution": 0.01866138385297604,
    "scale": 70.5310735
   }
  ],
  "format": "PNG",
  "compressionQuality": 0,
  "bandCount": 1,
  "lercError": 0,
  "storageFormat": "esriMapCacheStorageModeCompactV2",
  "packetSize": 128
 },
 "name": "Plazas por vivienda turística 2024M11 cache",
 "serviceDescription": "",
 "spatialReference": {
  "wkid": 102100,
  "latestWkid": 3857,
  "xyTolerance": 0.001,
  "zTolerance": 0.001,
  "mTolerance": 0.001,
  "falseX": -20037700,
  "falseY": -30241100,
  "xyUnits": 1.4892314192838538E8,
  "falseZ": -100000,
  "zUnits": 10000,
  "falseM": -100000,
  "mUnits": 10000
 },
 "units": "esriMeters",
 "minLOD": 5,
 "maxLOD": 16,
 "resampling": true,
 "layers": [
  {
   "id": 0,
   "name": "contornos",
   "parentLayerId": -1,
   "defaultVisibility": true,
   "subLayerIds": null,
   "minScale": 1155590,
   "maxScale": 0,
   "type": "Feature Layer",
   "geometryType": "esriGeometryPolygon",
   "supportsDynamicLegends": true,
   "legend": [
    {
     "label": "Contornos municipios",
     "imageData": "iVBORw0KGgoAAAANSUhEUgAAABQAAAAUCAYAAACNiR0NAAAACXBIWXMAAA7EAAAOxAGVKw4bAAAAN0lEQVQ4je3QoREAMBACQTJD/y0Tk4jX4J4zuBUQgBCMb0/I0wdjsaAdfWJW0I8BY1Rw04dKiRdWjgNPSyeLfgAAAABJRU5ErkJggg==",
     "contentType": "image/png",
     "groupId": "0",
     "height": 20,
     "width": 20,
     "layerId": 0,
     "layerName": "contornos"
    }
   ],
   "layerId": 0,
   "layerName": "contornos"
  },
  {
   "id": 1,
   "name": "Nivel: Municipios",
   "parentLayerId": -1,
   "defaultVisibility": true,
   "subLayerIds": null,
   "minScale": 0,
   "maxScale": 1155580,
   "type": "Feature Layer",
   "geometryType": "esriGeometryPolygon",
   "supportsDynamicLegends": true,
   "legend": [
    {
     "label": "≤4,00",
     "imageData": "iVBORw0KGgoAAAANSUhEUgAAABQAAAAUCAYAAACNiR0NAAAACXBIWXMAAA7EAAAOxAGVKw4bAAAAP0lEQVQ4jWNhKGD7z0BFwAIiRJiEqGLYm3/vIAZSE7CMGkgxYKHcCFQwaiDlgIUKZqCAUQNHTBi++feOaiYCAES8B54tcU/sAAAAAElFTkSuQmCC",
     "contentType": "image/png",
     "groupId": "0",
     "height": 20,
     "width": 20,
     "values": [
      4
     ],
     "layerId": 1,
     "layerName": "Nivel: Municipios"
    },
    {
     "label": "≤5,00",
     "imageData": "iVBORw0KGgoAAAANSUhEUgAAABQAAAAUCAYAAACNiR0NAAAACXBIWXMAAA7EAAAOxAGVKw4bAAAAPklEQVQ4jWMJWcj7n4GKgAVE/GXgoIphzAw/IAZSE7CMGkgxYKHcCFQwaiDlgIUKZqCAUQNHTBgyM/ygmokAtioFTTBp/XYAAAAASUVORK5CYII=",
     "contentType": "image/png",
     "groupId": "0",
     "height": 20,
     "width": 20,
     "values": [
      5
     ],
     "layerId": 1,
     "layerName": "Nivel: Municipios"
    },
    {
     "label": "≤5,70",
     "imageData": "iVBORw0KGgoAAAANSUhEUgAAABQAAAAUCAYAAACNiR0NAAAACXBIWXMAAA7EAAAOxAGVKw4bAAAAOElEQVQ4jWNZcl78PwMVAQuE4qaScV9hBlIPsIwaSDFgodwIVDBqIOWAhQpmoIBRA0dQGH6lmokAE9AEz0e/YBMAAAAASUVORK5CYII=",
     "contentType": "image/png",
     "groupId": "0",
     "height": 20,
     "width": 20,
     "values": [
      5.7
     ],
     "layerId": 1,
     "layerName": "Nivel: Municipios"
    },
    {
     "label": "≤6,26",
     "imageData": "iVBORw0KGgoAAAANSUhEUgAAABQAAAAUCAYAAACNiR0NAAAACXBIWXMAAA7EAAAOxAGVKw4bAAAAP0lEQVQ4jWP5+EfuPwMVAQuIYGTioYph//99gRhITcAyaiDFgIVyI1DBqIGUAxYqmIECRg0cMWH4/98XqpkIAEY9CUxujwm7AAAAAElFTkSuQmCC",
     "contentType": "image/png",
     "groupId": "0",
     "height": 20,
     "width": 20,
     "values": [
      6.25806451612903
     ],
     "layerId": 1,
     "layerName": "Nivel: Municipios"
    },
    {
     "label": "≤7,29",
     "imageData": "iVBORw0KGgoAAAANSUhEUgAAABQAAAAUCAYAAACNiR0NAAAACXBIWXMAAA7EAAAOxAGVKw4bAAAAP0lEQVQ4jWP5dUTkPwMVAQuIYGbhoYphf/98gRhITcAyaiDFgIVyI1DBqIGUAxYqmIECRg0cMWH4988XqpkIAN3iCQ8UpujuAAAAAElFTkSuQmCC",
     "contentType": "image/png",
     "groupId": "0",
     "height": 20,
     "width": 20,
     "values": [
      7.28571428571429
     ],
     "layerId": 1,
     "layerName": "Nivel: Municipios"
    },
    {
     "label": "≤8,87",
     "imageData": "iVBORw0KGgoAAAANSUhEUgAAABQAAAAUCAYAAACNiR0NAAAACXBIWXMAAA7EAAAOxAGVKw4bAAAAPklEQVQ4je3QIQ4AIAxDUTKquDpXZoUQ1PTq2BeVTxRrjt2E4U43k2BOPlAZCkyHPBErMB8ERqjAbz50UiYeQycI2lYF3EcAAAAASUVORK5CYII=",
     "contentType": "image/png",
     "groupId": "0",
     "height": 20,
     "width": 20,
     "values": [
      8.86666666666667
     ],
     "layerId": 1,
     "layerName": "Nivel: Municipios"
    },
    {
     "label": "≤36,00",
     "imageData": "iVBORw0KGgoAAAANSUhEUgAAABQAAAAUCAYAAACNiR0NAAAACXBIWXMAAA7EAAAOxAGVKw4bAAAAPklEQVQ4jWP5ZcX1n4GKgAVMMPFTxbA//z5CDKQmYBk1kGLAQrkRqGDUQMoBCxXMQAGjBo6YMPzz7yPVTAQANlMIeZ+x+JcAAAAASUVORK5CYII=",
     "contentType": "image/png",
     "groupId": "0",
     "height": 20,
     "width": 20,
     "values": [
      36
     ],
     "layerId": 1,
     "layerName": "Nivel: Municipios"
    }
   ],
   "layerId": 1,
   "layerName": "Nivel: Municipios"
  },
  {
   "id": 2,
   "name": "Nivel: Distritos",
   "parentLayerId": -1,
   "defaultVisibility": true,
   "subLayerIds": null,
   "minScale": 1155580,
   "maxScale": 288894,
   "type": "Feature Layer",
   "geometryType": "esriGeometryPolygon",
   "supportsDynamicLegends": true,
   "legend": [
    {
     "label": "≤4,00",
     "imageData": "iVBORw0KGgoAAAANSUhEUgAAABQAAAAUCAYAAACNiR0NAAAACXBIWXMAAA7EAAAOxAGVKw4bAAAAPklEQVQ4jWPJy8u7x0BFwAIilrGsoophUX/CIAZSE7CMGkgxYKHcCFQwaiDlgIUKZqCAUQNHTBhG/QmjmokArRgHJWWj690AAAAASUVORK5CYII=",
     "contentType": "image/png",
     "groupId": "0",
     "height": 20,
     "width": 20,
     "values": [
      4
     ],
     "layerId": 2,
     "layerName": "Nivel: Distritos"
    },
    {
     "label": "≤4,80",
     "imageData": "iVBORw0KGgoAAAANSUhEUgAAABQAAAAUCAYAAACNiR0NAAAACXBIWXMAAA7EAAAOxAGVKw4bAAAAPklEQVQ4jWPJy8u7x0BFwAIinhgvp4phMmcjIQZSE7CMGkgxYKHcCFQwaiDlgIUKZqCAUQNHTBjKnI2kmokAq5kGuycfF0MAAAAASUVORK5CYII=",
     "contentType": "image/png",
     "groupId": "0",
     "height": 20,
     "width": 20,
     "values": [
      4.8
     ],
     "layerId": 2,
     "layerName": "Nivel: Distritos"
    },
    {
     "label": "≤5,38",
     "imageData": "iVBORw0KGgoAAAANSUhEUgAAABQAAAAUCAYAAACNiR0NAAAACXBIWXMAAA7EAAAOxAGVKw4bAAAAPklEQVQ4jWPJy8u7x0BFwAIizBK3UMWwU/N9IAZSE7CMGkgxYKHcCFQwaiDlgIUKZqCAUQNHTBiemu9DNRMBra0HLo82Y/YAAAAASUVORK5CYII=",
     "contentType": "image/png",
     "groupId": "0",
     "height": 20,
     "width": 20,
     "values": [
      5.38317757009346
     ],
     "layerId": 2,
     "layerName": "Nivel: Distritos"
    },
    {
     "label": "≤6,00",
     "imageData": "iVBORw0KGgoAAAANSUhEUgAAABQAAAAUCAYAAACNiR0NAAAACXBIWXMAAA7EAAAOxAGVKw4bAAAAPklEQVQ4jWPJy8u7x0BFwAIiWibspYphNQXOEAOpCVhGDaQYsFBuBCoYNZBywEIFM1DAqIEjJgxrCpypZiIAq9YGqJqWJUEAAAAASUVORK5CYII=",
     "contentType": "image/png",
     "groupId": "0",
     "height": 20,
     "width": 20,
     "values": [
      6
     ],
     "layerId": 2,
     "layerName": "Nivel: Distritos"
    },
    {
     "label": "≤7,00",
     "imageData": "iVBORw0KGgoAAAANSUhEUgAAABQAAAAUCAYAAACNiR0NAAAACXBIWXMAAA7EAAAOxAGVKw4bAAAAPklEQVQ4jWPJy8u7x0BFwAIi+qM2UcWwwmV+EAOpCVhGDaQYsFBuBCoYNZBywEIFM1DAqIEjJgwLl/lRzUQArGIG3jUMyC4AAAAASUVORK5CYII=",
     "contentType": "image/png",
     "groupId": "0",
     "height": 20,
     "width": 20,
     "values": [
      7
     ],
     "layerId": 2,
     "layerName": "Nivel: Distritos"
    },
    {
     "label": "≤8,50",
     "imageData": "iVBORw0KGgoAAAANSUhEUgAAABQAAAAUCAYAAACNiR0NAAAACXBIWXMAAA7EAAAOxAGVKw4bAAAAPklEQVQ4jWPJy8u7x0BFwAIiJsrPpYph+Q+TIQZSE7CMGkgxYKHcCFQwaiDlgIUKZqCAUQNHTBjmP0ymmokArTUHLDzmSy0AAAAASUVORK5CYII=",
     "contentType": "image/png",
     "groupId": "0",
     "height": 20,
     "width": 20,
     "values": [
      8.5
     ],
     "layerId": 2,
     "layerName": "Nivel: Distritos"
    },
    {
     "label": "≤36,00",
     "imageData": "iVBORw0KGgoAAAANSUhEUgAAABQAAAAUCAYAAACNiR0NAAAACXBIWXMAAA7EAAAOxAGVKw4bAAAAPklEQVQ4jWPJy8u7x0BFwAIiJpxbTRXDCoxCIQZSE7CMGkgxYKHcCFQwaiDlgIUKZqCAUQNHTBgWGIVSzUQAqxAGcMZ4Af8AAAAASUVORK5CYII=",
     "contentType": "image/png",
     "groupId": "0",
     "height": 20,
     "width": 20,
     "values": [
      36
     ],
     "layerId": 2,
     "layerName": "Nivel: Distritos"
    }
   ],
   "layerId": 2,
   "layerName": "Nivel: Distritos"
  },
  {
   "id": 3,
   "name": "Nivel: Secciones",
   "parentLayerId": -1,
   "defaultVisibility": true,
   "subLayerIds": null,
   "minScale": 288894,
   "maxScale": 0,
   "type": "Feature Layer",
   "geometryType": "esriGeometryPolygon",
   "supportsDynamicLegends": true,
   "legend": [
    {
     "label": "≤3,00",
     "imageData": "iVBORw0KGgoAAAANSUhEUgAAABQAAAAUCAYAAACNiR0NAAAACXBIWXMAAA7EAAAOxAGVKw4bAAAAPklEQVQ4jWPJzc3dz0BFwAIilrOspophkX9CIQZSE7CMGkgxYKHcCFQwaiDlgIUKZqCAUQNHTBhG/gmlmokA1l0HAd1YukUAAAAASUVORK5CYII=",
     "contentType": "image/png",
     "groupId": "0",
     "height": 20,
     "width": 20,
     "values": [
      3
     ],
     "layerId": 3,
     "layerName": "Nivel: Secciones"
    },
    {
     "label": "≤4,00",
     "imageData": "iVBORw0KGgoAAAANSUhEUgAAABQAAAAUCAYAAACNiR0NAAAACXBIWXMAAA7EAAAOxAGVKw4bAAAAPklEQVQ4jWPJzc3dz0BFwAIinpiuoIphMqcjIAZSE7CMGkgxYKHcCFQwaiDlgIUKZqCAUQNHTBjKnI6gmokA1NwGlprH2ycAAAAASUVORK5CYII=",
     "contentType": "image/png",
     "groupId": "0",
     "height": 20,
     "width": 20,
     "values": [
      4
     ],
     "layerId": 3,
     "layerName": "Nivel: Secciones"
    },
    {
     "label": "≤4,67",
     "imageData": "iVBORw0KGgoAAAANSUhEUgAAABQAAAAUCAYAAACNiR0NAAAACXBIWXMAAA7EAAAOxAGVKw4bAAAAPklEQVQ4jWPJzc3dz0BFwAIizJO2UMWwk/N8IAZSE7CMGkgxYKHcCFQwaiDlgIUKZqCAUQNHTBienOdDNRMB1vEHCpAVUjEAAAAASUVORK5CYII=",
     "contentType": "image/png",
     "groupId": "0",
     "height": 20,
     "width": 20,
     "values": [
      4.66666666666667
     ],
     "layerId": 3,
     "layerName": "Nivel: Secciones"
    },
    {
     "label": "≤5,20",
     "imageData": "iVBORw0KGgoAAAANSUhEUgAAABQAAAAUCAYAAACNiR0NAAAACXBIWXMAAA7EAAAOxAGVKw4bAAAAPklEQVQ4jWPJzc3dz0BFwAIiWifuoYph1fkuEAOpCVhGDaQYsFBuBCoYNZBywEIFM1DAqIEjJgyr812oZiIA1RwGhTQW46MAAAAASUVORK5CYII=",
     "contentType": "image/png",
     "groupId": "0",
     "height": 20,
     "width": 20,
     "values": [
      5.2
     ],
     "layerId": 3,
     "layerName": "Nivel: Secciones"
    },
    {
     "label": "≤6,00",
     "imageData": "iVBORw0KGgoAAAANSUhEUgAAABQAAAAUCAYAAACNiR0NAAAACXBIWXMAAA7EAAAOxAGVKw4bAAAAPklEQVQ4jWPJzc3dz0BFwAIiJkZvpoph+Ut9IQZSE7CMGkgxYKHcCFQwaiDlgIUKZqCAUQNHTBjmL/WlmokA1aAGuFXu+Z8AAAAASUVORK5CYII=",
     "contentType": "image/png",
     "groupId": "0",
     "height": 20,
     "width": 20,
     "values": [
      6
     ],
     "layerId": 3,
     "layerName": "Nivel: Secciones"
    },
    {
     "label": "≤7,69",
     "imageData": "iVBORw0KGgoAAAANSUhEUgAAABQAAAAUCAYAAACNiR0NAAAACXBIWXMAAA7EAAAOxAGVKw4bAAAAPklEQVQ4jWPJzc3dz0BFwAIiJinOp4phefcTIQZSE7CMGkgxYKHcCFQwaiDlgIUKZqCAUQNHTBjm3U+kmokA1nIHBf6lyEoAAAAASUVORK5CYII=",
     "contentType": "image/png",
     "groupId": "0",
     "height": 20,
     "width": 20,
     "values": [
      7.69230769230769
     ],
     "layerId": 3,
     "layerName": "Nivel: Secciones"
    },
    {
     "label": "≤36,00",
     "imageData": "iVBORw0KGgoAAAANSUhEUgAAABQAAAAUCAYAAACNiR0NAAAACXBIWXMAAA7EAAAOxAGVKw4bAAAAPklEQVQ4jWPJzc3dz0BFwAIiJp5fQxXD8g1DIAZSE7CMGkgxYKHcCFQwaiDlgIUKZqCAUQNHTBjmG4ZQzUQA1FIGS57b5cYAAAAASUVORK5CYII=",
     "contentType": "image/png",
     "groupId": "0",
     "height": 20,
     "width": 20,
     "values": [
      36
     ],
     "layerId": 3,
     "layerName": "Nivel: Secciones"
    }
   ],
   "layerId": 3,
   "layerName": "Nivel: Secciones",
   "serviceItemId": "58b6e2881de6471baae1db53df0f7cf6"
  }
 ],
 "initialExtent": {
  "xmin": -2366490.5611557825,
  "ymin": 3182989.5408849437,
  "xmax": 530911.8282695931,
  "ymax": 5447856.8987714555,
  "spatialReference": {
   "wkid": 102100,
   "latestWkid": 3857,
   "xyTolerance": 0.001,
   "zTolerance": 0.001,
   "mTolerance": 0.001,
   "falseX": -20037700,
   "falseY": -30241100,
   "xyUnits": 1.4892314192838538E8,
   "falseZ": -100000,
   "zUnits": 10000,
   "falseM": -100000,
   "mUnits": 10000
  }
 },
 "fullExtent": {
  "xmin": -2366490.5611557825,
  "ymin": 3182989.5408849437,
  "xmax": 530911.8282695931,
  "ymax": 5447856.8987714555,
  "spatialReference": {
   "wkid": 102100,
   "latestWkid": 3857,
   "xyTolerance": 0.001,
   "zTolerance": 0.001,
   "mTolerance": 0.001,
   "falseX": -20037700,
   "falseY": -30241100,
   "xyUnits": 1.4892314192838538E8,
   "falseZ": -100000,
   "zUnits": 10000,
   "falseM": -100000,
   "mUnits": 10000
  }
 },
 "minScale": 0,
 "maxScale": 0,
 "exportTilesAllowed": false,
 "maxExportTilesCount": 0,
 "currentVersion": 11.3,
 "mapName": "Plazas por vivienda turística 2024M11 cache",
 "singleFusedMapCache": true,
 "type": "MapServer",
 "supportedExtensions": "",
 "capabilities": "TilesOnly,Tilemap",
 "serviceItemId": "58b6e2881de6471baae1db53df0f7cf6"
}
