{
 "version": 1.0,
 "tileBundlesPath": "./tile",
 "storageInfo": {
  "packetSize": 128,
  "storageFormat": "esriMapCacheStorageModeCompactV2"
 },
 "tileImageInfo": {
  "format": "PNG",
  "compressionQuality": 0,
  "bandCount": 1,
  "lercError": 0
 },
 "tileInfo": {
  "spatialReference": {
   "wkid": 102100,
   "latestWkid": 3857
  },
  "origin": {
   "x": -2.0037508342787E7,
   "y": 2.0037508342787E7
  },
  "rows": 256,
  "cols": 256,
  "dpi": 96,
  "lods": [
   {
    "level": 0,
    "resolution": 156543.033928,
    "scale": 5.91657527591555E8
   },
   {
    "level": 1,
    "resolution": 78271.5169639999,
    "scale": 2.95828763795777E8
   },
   {
    "level": 2,
    "resolution": 39135.7584820001,
    "scale": 1.47914381897889E8
   },
   {
    "level": 3,
    "resolution": 19567.8792409999,
    "scale": 7.3957190948944E7
   },
   {
    "level": 4,
    "resolution": 9783.93962049996,
    "scale": 3.6978595474472E7
   },
   {
    "level": 5,
    "resolution": 4891.96981024998,
    "scale": 1.8489297737236E7
   },
   {
    "level": 6,
    "resolution": 2445.98490512499,
    "scale": 9244648.868618
   },
   {
    "level": 7,
    "resolution": 1222.99245256249,
    "scale": 4622324.434309
   },
   {
    "level": 8,
    "resolution": 611.49622628138,
    "scale": 2311162.217155
   },
   {
    "level": 9,
    "resolution": 305.748113140558,
    "scale": 1155581.108577
   },
   {
    "level": 10,
    "resolution": 152.874056570411,
    "scale": 577790.554289
   },
   {
    "level": 11,
    "resolution": 76.4370282850732,
    "scale": 288895.277144
   },
   {
    "level": 12,
    "resolution": 38.2185141425366,
    "scale": 144447.638572
   },
   {
    "level": 13,
    "resolution": 19.1092570712683,
    "scale": 72223.819286
   },
   {
    "level": 14,
    "resolution": 9.55462853563415,
    "scale": 36111.909643
   },
   {
    "level": 15,
    "resolution": 4.77731426794937,
    "scale": 18055.954822
   },
   {
    "level": 16,
    "resolution": 2.38865713397468,
    "scale": 9027.977411
   },
   {
    "level": 17,
    "resolution": 1.19432856685505,
    "scale": 4513.988705
   },
   {
    "level": 18,
    "resolution": 0.597164283559817,
    "scale": 2256.994353
   },
   {
    "level": 19,
    "resolution": 0.298582141647617,
    "scale": 1128.497176
   },
   {
    "level": 20,
    "resolution": 0.14929107082380833,
    "scale": 564.248588
   },
   {
    "level": 21,
    "resolution": 0.07464553541190416,
    "scale": 282.124294
   },
   {
    "level": 22,
    "resolution": 0.03732276770595208,
    "scale": 141.062147
   },
   {
    "level": 23,
    "resolution": 0.01866138385297604,
    "scale": 70.5310735
   }
  ],
  "format": "PNG",
  "compressionQuality": 0,
  "bandCount": 1,
  "lercError": 0,
  "storageFormat": "esriMapCacheStorageModeCompactV2",
  "packetSize": 128
 },
 "name": "censo2022-TasaDependencia",
 "serviceDescription": "",
 "spatialReference": {
  "wkid": 102100,
  "latestWkid": 3857,
  "xyTolerance": 0.001,
  "zTolerance": 0.001,
  "mTolerance": 0.001,
  "falseX": -20037700,
  "falseY": -30241100,
  "xyUnits": 1.4892314192838538E8,
  "falseZ": -100000,
  "zUnits": 10000,
  "falseM": -100000,
  "mUnits": 10000
 },
 "units": "esriMeters",
 "minLOD": 5,
 "maxLOD": 16,
 "resampling": true,
 "layers": [
  {
   "id": 0,
   "name": "contornos",
   "parentLayerId": -1,
   "defaultVisibility": true,
   "subLayerIds": null,
   "minScale": 750000,
   "maxScale": 0,
   "type": "Feature Layer",
   "geometryType": "esriGeometryPolygon",
   "supportsDynamicLegends": true,
   "legend": [
    {
     "label": "Contornos",
     "imageData": "iVBORw0KGgoAAAANSUhEUgAAABQAAAAUCAYAAACNiR0NAAAACXBIWXMAAA7EAAAOxAGVKw4bAAAAPklEQVQ4je3VIRIAMAgDwXYm77vH8kE6rUMTV04gV8QgIJcx3RMR24EB+UBnGrCd+kRtwH4yGKUBv9kQ4xs4GKgII4/Mt0oAAAAASUVORK5CYII=",
     "contentType": "image/png",
     "groupId": "0",
     "height": 20,
     "width": 20,
     "layerId": 0,
     "layerName": "contornos"
    }
   ],
   "layerId": 0,
   "layerName": "contornos"
  },
  {
   "id": 1,
   "name": "Nivel: municipios",
   "parentLayerId": -1,
   "defaultVisibility": true,
   "subLayerIds": null,
   "minScale": 0,
   "maxScale": 80000,
   "type": "Feature Layer",
   "geometryType": "esriGeometryPolygon",
   "supportsDynamicLegends": true,
   "legend": [
    {
     "label": "10,00 - 54,19",
     "imageData": "iVBORw0KGgoAAAANSUhEUgAAABQAAAAUCAYAAACNiR0NAAAACXBIWXMAAA7EAAAOxAGVKw4bAAAAM0lEQVQ4je3MsREAMAwCMRe//3TZh1xK19AFDSCkowkimT0NfQSOpaGPwLE09BE45vPwAi6yBCJBlr22AAAAAElFTkSuQmCC",
     "contentType": "image/png",
     "groupId": "0",
     "height": 20,
     "width": 20,
     "values": [
      54.190053971763284
     ],
     "layerId": 1,
     "layerName": "Nivel: municipios"
    },
    {
     "label": "54,20 - 60,99",
     "imageData": "iVBORw0KGgoAAAANSUhEUgAAABQAAAAUCAYAAACNiR0NAAAACXBIWXMAAA7EAAAOxAGVKw4bAAAANElEQVQ4jWP593jifwYqAhZqGgYCowZSDlioYAYKGDWQcsBCBTNQwKiBlAMWKpjBMMINBADQBwPCEa28xAAAAABJRU5ErkJggg==",
     "contentType": "image/png",
     "groupId": "0",
     "height": 20,
     "width": 20,
     "values": [
      60.99499760167516
     ],
     "layerId": 1,
     "layerName": "Nivel: municipios"
    },
    {
     "label": "61,00 - 62,04",
     "imageData": "iVBORw0KGgoAAAANSUhEUgAAABQAAAAUCAYAAACNiR0NAAAACXBIWXMAAA7EAAAOxAGVKw4bAAAANElEQVQ4jWP5d8T/PwMVAQs1DQOBUQMpByxUMAMFjBpIOWChghkoYNRAygELFcxgGOEGAgBrGQNheDKmoQAAAABJRU5ErkJggg==",
     "contentType": "image/png",
     "groupId": "0",
     "height": 20,
     "width": 20,
     "values": [
      62.042908922079235
     ],
     "layerId": 1,
     "layerName": "Nivel: municipios"
    },
    {
     "label": "62,05 - 68,85",
     "imageData": "iVBORw0KGgoAAAANSUhEUgAAABQAAAAUCAYAAACNiR0NAAAACXBIWXMAAA7EAAAOxAGVKw4bAAAANElEQVQ4jWP5N1PzPwMVAQs1DQOBUQMpByxUMAMFjBpIOWChghkoYNRAygELFcxgGOEGAgBrLwMQScoU8QAAAABJRU5ErkJggg==",
     "contentType": "image/png",
     "groupId": "0",
     "height": 20,
     "width": 20,
     "values": [
      68.84785255199111
     ],
     "layerId": 1,
     "layerName": "Nivel: municipios"
    },
    {
     "label": "68,86 - 113,04",
     "imageData": "iVBORw0KGgoAAAANSUhEUgAAABQAAAAUCAYAAACNiR0NAAAACXBIWXMAAA7EAAAOxAGVKw4bAAAAM0lEQVQ4jWO5Gc/3n4GKgIWahoHAqIGUAxYqmIECRg2kHLBQwQwUMGog5YCFCmYwjHADAWfkApaueB21AAAAAElFTkSuQmCC",
     "contentType": "image/png",
     "groupId": "0",
     "height": 20,
     "width": 20,
     "values": [
      113.03790652375439
     ],
     "layerId": 1,
     "layerName": "Nivel: municipios"
    },
    {
     "label": "113,05 - 400,00",
     "imageData": "iVBORw0KGgoAAAANSUhEUgAAABQAAAAUCAYAAACNiR0NAAAACXBIWXMAAA7EAAAOxAGVKw4bAAAAM0lEQVQ4jWOZacLyn4GKgIWahoHAqIGUAxYqmIECRg2kHLBQwQwUMGog5YCFCmYwjHADAYQHAiH7f8ZhAAAAAElFTkSuQmCC",
     "contentType": "image/png",
     "groupId": "0",
     "height": 20,
     "width": 20,
     "values": [
      400
     ],
     "layerId": 1,
     "layerName": "Nivel: municipios"
    }
   ],
   "layerId": 1,
   "layerName": "Nivel: municipios"
  },
  {
   "id": 2,
   "name": "Nivel: secciones",
   "parentLayerId": -1,
   "defaultVisibility": true,
   "subLayerIds": null,
   "minScale": 80000,
   "maxScale": 0,
   "type": "Feature Layer",
   "geometryType": "esriGeometryPolygon",
   "supportsDynamicLegends": true,
   "legend": [
    {
     "label": "12,50 - 48,22",
     "imageData": "iVBORw0KGgoAAAANSUhEUgAAABQAAAAUCAYAAACNiR0NAAAACXBIWXMAAA7EAAAOxAGVKw4bAAAAPklEQVQ4jWPJy8v7z0BFwAIiJk5Mo4ph+fmzIAZSE7CMGkgxYKHcCFQwaiDlgIUKZqCAUQNHTBjm58+imokAfKwHEtIknKkAAAAASUVORK5CYII=",
     "contentType": "image/png",
     "groupId": "0",
     "height": 20,
     "width": 20,
     "values": [
      48.218077211387026
     ],
     "layerId": 2,
     "layerName": "Nivel: secciones"
    },
    {
     "label": "48,23 - 53,92",
     "imageData": "iVBORw0KGgoAAAANSUhEUgAAABQAAAAUCAYAAACNiR0NAAAACXBIWXMAAA7EAAAOxAGVKw4bAAAAPklEQVQ4jWPJy8v7z0BFwAIiJpQqU8Wwgu67EAOpCVhGDaQYsFBuBCoYNZBywEIFM1DAqIEjJgwLuu9SzUQAfYoHcliTxjQAAAAASUVORK5CYII=",
     "contentType": "image/png",
     "groupId": "0",
     "height": 20,
     "width": 20,
     "values": [
      53.919891549426
     ],
     "layerId": 2,
     "layerName": "Nivel: secciones"
    },
    {
     "label": "53,93 - 54,83",
     "imageData": "iVBORw0KGgoAAAANSUhEUgAAABQAAAAUCAYAAACNiR0NAAAACXBIWXMAAA7EAAAOxAGVKw4bAAAAPklEQVQ4jWPJy8v7z0BFwAIiJoQ9pIphBavkIQZSE7CMGkgxYKHcCFQwaiDlgIUKZqCAUQNHTBgWrJKnmokAfGsG0xFVflEAAAAASUVORK5CYII=",
     "contentType": "image/png",
     "groupId": "0",
     "height": 20,
     "width": 20,
     "values": [
      54.83009414944452
     ],
     "layerId": 2,
     "layerName": "Nivel: secciones"
    },
    {
     "label": "54,84 - 60,53",
     "imageData": "iVBORw0KGgoAAAANSUhEUgAAABQAAAAUCAYAAACNiR0NAAAACXBIWXMAAA7EAAAOxAGVKw4bAAAAPklEQVQ4jWPJy8v7z0BFwAIiJmjvpophBVddIQZSE7CMGkgxYKHcCFQwaiDlgIUKZqCAUQNHTBgWXHWlmokAfTgHJJWfeB8AAAAASUVORK5CYII=",
     "contentType": "image/png",
     "groupId": "0",
     "height": 20,
     "width": 20,
     "values": [
      60.53190848748349
     ],
     "layerId": 2,
     "layerName": "Nivel: secciones"
    },
    {
     "label": "60,54 - 96,25",
     "imageData": "iVBORw0KGgoAAAANSUhEUgAAABQAAAAUCAYAAACNiR0NAAAACXBIWXMAAA7EAAAOxAGVKw4bAAAAPklEQVQ4jWPJy8v7z0BFwAIisj8uoIphU/kTIAZSE7CMGkgxYKHcCFQwaiDlgIUKZqCAUQNHTBhO5U+gmokAe7AGnmI6KgYAAAAASUVORK5CYII=",
     "contentType": "image/png",
     "groupId": "0",
     "height": 20,
     "width": 20,
     "values": [
      96.2499856988705
     ],
     "layerId": 2,
     "layerName": "Nivel: secciones"
    },
    {
     "label": "96,26 - 320,00",
     "imageData": "iVBORw0KGgoAAAANSUhEUgAAABQAAAAUCAYAAACNiR0NAAAACXBIWXMAAA7EAAAOxAGVKw4bAAAAPklEQVQ4jWPJy8v7z0BFwAIitI9No4phV62yIAZSE7CMGkgxYKHcCFQwaiDlgIUKZqCAUQNHTBhetcqimokAfUUHE5Y9xIkAAAAASUVORK5CYII=",
     "contentType": "image/png",
     "groupId": "0",
     "height": 20,
     "width": 20,
     "values": [
      320
     ],
     "layerId": 2,
     "layerName": "Nivel: secciones"
    }
   ],
   "layerId": 2,
   "layerName": "Nivel: secciones",
   "serviceItemId": "fb745e325b414196a088686d993b89e2"
  }
 ],
 "initialExtent": {
  "xmin": -2366490.5611557825,
  "ymin": 3182989.5407879646,
  "xmax": 530911.8282695931,
  "ymax": 5447856.898625868,
  "spatialReference": {
   "wkid": 102100,
   "latestWkid": 3857,
   "xyTolerance": 0.001,
   "zTolerance": 0.001,
   "mTolerance": 0.001,
   "falseX": -20037700,
   "falseY": -30241100,
   "xyUnits": 1.4892314192838538E8,
   "falseZ": -100000,
   "zUnits": 10000,
   "falseM": -100000,
   "mUnits": 10000
  }
 },
 "fullExtent": {
  "xmin": -2366490.5611557825,
  "ymin": 3182989.5407879646,
  "xmax": 530911.8282695931,
  "ymax": 5447856.898625868,
  "spatialReference": {
   "wkid": 102100,
   "latestWkid": 3857,
   "xyTolerance": 0.001,
   "zTolerance": 0.001,
   "mTolerance": 0.001,
   "falseX": -20037700,
   "falseY": -30241100,
   "xyUnits": 1.4892314192838538E8,
   "falseZ": -100000,
   "zUnits": 10000,
   "falseM": -100000,
   "mUnits": 10000
  }
 },
 "minScale": 0,
 "maxScale": 0,
 "exportTilesAllowed": false,
 "maxExportTilesCount": 0,
 "currentVersion": 11.3,
 "mapName": "censo2022-TasaDependencia",
 "singleFusedMapCache": true,
 "type": "MapServer",
 "supportedExtensions": "",
 "capabilities": "TilesOnly,Tilemap",
 "serviceItemId": "fb745e325b414196a088686d993b89e2"
}
